BEGIN:VCALENDAR
VERSION:2.0
PRODID:-//so_ko_wpt • intervention und selbstbeherrschung - ECPv4.6.14.1//NONSGML v1.0//EN
CALSCALE:GREGORIAN
METHOD:PUBLISH
X-WR-CALNAME:so_ko_wpt • intervention und selbstbeherrschung
X-ORIGINAL-URL:https://soli-komitee-wuppertal.mobi
X-WR-CALDESC:Veranstaltungen für so_ko_wpt • intervention und selbstbeherrschung
BEGIN:VEVENT
DTSTART;TZID=Europe/Amsterdam:20160407T100000
DTEND;TZID=Europe/Amsterdam:20160407T150000
DTSTAMP:20260419T121145
CREATED:20160319T184758Z
LAST-MODIFIED:20160319T184758Z
UID:10768-1460023200-1460041200@soli-komitee-wuppertal.mobi
SUMMARY:§129-Prozess gegen Latife
DESCRIPTION:Am 28. und 29. Prozesstag am OLG Düsseldorf sollen vor dem 5. Strafsenat Sprachgutachter zu Telekommunikations-Überwachungsprotokollen und abgehörten KFZ-Innenraumgesprächen aussagen. \nEine solida­rische Prozessbegleitung ist erwünscht. Wer den Prozess besuchen möchte um unsere Freundin zu unter­stützen\, muß sich am Zugang ausweisen (Personalausweis; Führerschein). Weitere Infos und Kontakt zur Beobachtungsgruppe: Website zum 129er-Verfahren gegen Latife\n							Drucken \nArtikel teilen
URL:https://soli-komitee-wuppertal.mobi/event/%c2%a7129-prozess-gegen-latife-28/
LOCATION:Cecielienallee 3\, Düsseldorf
CATEGORIES:Anderes
END:VEVENT
END:VCALENDAR