BEGIN:VCALENDAR
VERSION:2.0
PRODID:-//so_ko_wpt • intervention und selbstbeherrschung - ECPv4.6.14.1//NONSGML v1.0//EN
CALSCALE:GREGORIAN
METHOD:PUBLISH
X-WR-CALNAME:so_ko_wpt • intervention und selbstbeherrschung
X-ORIGINAL-URL:https://soli-komitee-wuppertal.mobi
X-WR-CALDESC:Veranstaltungen für so_ko_wpt • intervention und selbstbeherrschung
BEGIN:VEVENT
DTSTART;TZID=Europe/Amsterdam:20160415T150000
DTEND;TZID=Europe/Amsterdam:20160415T220000
DTSTAMP:20260423T130851
CREATED:20160404T111711Z
LAST-MODIFIED:20160404T111857Z
UID:10852-1460732400-1460757600@soli-komitee-wuppertal.mobi
SUMMARY:71.Jahrestag der BefreiungWuppertals – Befreiungsfest
DESCRIPTION:Am 15./16.April jährt sich die Befreiung Wuppertals vom Nationalsozialismus zum 71. Mal. Auch in diesem Jahr wird es im Deweerthschen Garten am Robert Daum-Platz eine Gedenkfeier und ein Befreiungsfest geben. Bereits vor der Eröffnung der Gedenkveranstaltung findet einige hundert Meter entfernt außerdem die Widmung einer Grünfläche zum "Rita und Izchok Gerszt-Park" statt. \nWir dokumentieren hier die Einladung und das Programm: \nAuch dieses Jahr möchten wir die Befreiung Wuppertals vom Nationalsozialismus feiern. Seit 2005 erinnern wir an den Befreiungstag in Wuppertal mit großen und kleinen Gedenkfeiern\, Stadtrundgängen und Buchlesungen. Zum 71. Jahrestag der Befreiung möchten wir wieder zusammen mit den Überlebenden und Angehörigen der NS-Opfer im Deweerthschen Garten eine würdige Gedenkfeier und ein lebendiges Befreiungsfest feiern. \nDas Befreiungsfest soll erneut vor dem Denkmal der Namen im Deweerthschen Garten stattfinden\, wo wir letztes Jahr eine neue Gedenktafel mit den Namen von jetzt 3.433 Wuppertaler NS-Opfern installieren konnten. Wir freuen uns\, dass wir die Auschwitz-Überlebende und Musikerin Esther Bejarano und Microphone Mafia für den musikalischen Teil des Befreiungsfestes gewinnen konnten. Auch der Musiker und Sohn des hingerichteten Widerstandskämpfers Theo Hespers\, Dirk Hespers\, hat zugesagt. Außerdem werden Roswitha Dasch und Katharina Müther im Zelt und bei der Einweihung des „Rita und Izchok Gerszt Park” an der Josefstraße aufspielen. \nBefreiung Wuppertals am 15./16. April 1945 \n„Wir wurden am 16. April in der Fabrik erobert\, wie wir uns über die Befreiung gefreut haben\, das können Sie sich nicht vorstellen. Alle Franzosen\, Italiener\, Russen\, Ukrainer\, alle küssten sich\, umarmten sich\, weil wir frei waren. Dann brachten uns die Amerikaner in allgemeine Kasernen\, sie begannen uns aufzupäppeln\, sie verteilten uns auf Dörfer\, um uns leichter abzufüttern\, dann schickten sie uns in die Heimat.” \nAm 15/16. April 1945 befreiten Soldaten der 78. und 8. Infantry-Division der US-Army Wuppertal. Kurz nach der Befreiung strömten sowjetische und französische Kriegsgefangene und ZwangsarbeiterInnen aller Nationen aus den Fabriken und Lagern in die Innenstädte\, feierten ihre Befreiung und eigneten sich in Lebensmittelgeschäften und Kaufhäusern Waren an. Höhepunkt der Feiern war sicher die Besetzung des Wuppertaler Polizeipräsidiums durch ZwangsarbeiterInnen. Spontan besetzten sie die Büros der Gestapo und warfen Akten aus den Fenstern. Das Präsidium war für viele ZwangsarbeiterInnen und politische GegnerInnen des Nationalsozialismus ein Ort des Schreckens. Im Polizeipräsidium wurden zahllose Menschen festgehalten\, gedemütigt\, gefoltert und totgeschlagen. Aus dem Polizeipräsidium wurden noch kurz vor Kriegsende ZwangsarbeiterInnen und politische Gefangene zu Hinrichtungsorten der Wuppertaler Gestapo geführt. \nIm Vordergrund des Befreiungsfestes 2016 sollen die Kinder des Widerstands stehen. Wir möchten vor allem Angehörige der Wuppertaler NS-Opfer einladen und sie verstärkt in unsere kommende Erinnerungsarbeit einbinden. Dieses Jahr erinnern wir besonders an das Schicksal der in den Wuppertaler Gewerkschaftsprozessen abgeurteilten ArbeiterInnen. Wir haben uns bemüht\, Angehörige zu finden und zu unserer Gedenkfeier einzuladen. \nDas Programm des Befreiungsfestes 2016 \n15:00 Uhr: Einweihung des „Rita und Izchok Gerszt Park“ an der Josefstraße\, Wuppertal-Elberfeld\, mit Angehörigen der Familie Gerszt und Musik von Roswitha Dasch und Katharina Müther\n16:30 Uhr: Gedenkfeier mit Befreiungskonzert im Deweerthschen Garten am Wuppertaler Denkmal für die NS-Opfer mit Angehörigen der Wuppertaler NS-Verfolgten\, Elberfeld (Nähe Robert Daum-Platz) \nProgramm \n\nBegrüßung und Kaffeetrinken im Zelt am Deweerthschen Garten (16:30 Uhr)\nAuftritt der Showgruppe „Kalinka“ des deutsch-russischen Kulturzentrums Applaus e.V.\n„welcome2wuppertal“ (w2wtal) zur aktuellen Situation Geflüchteter in Europa\nBegrüßung durch Oberbürgermeister Andreas Mucke\nDieter Nelles\, Verein zur Erforschung der sozialen Bewegungen im Wuppertal e.V.\nKlara Tuchscherer\, AG Kinder des Widerstandes in der VVN-BdA\nLudmila Gutina\, Applaus e.V.\nDré Hanssen\, Helden-Panningen NL (angefragt)\nJan Hertogen\, Vertreter der Angehörigen u. FreundInnen der belg. Widerstandsgruppe „De Zwarte Hand“\nVertreter des Comité Voettocht 30 December\, Roermond (angefragt)\n\nanschließend Gedenken und danach Befreiungskonzert im Festzelt mit:\nDirk Hespers & Erik “Fotler” Schellhorn (Widerstandslieder)\nRoswitha Dasch und Katharina Müther (Jiddische Lieder)\nEsther Bejarano und Microphone Mafia\n							Drucken \nArtikel teilen
URL:https://soli-komitee-wuppertal.mobi/event/71-jahrestag-der-befreiung-wuppertals-befreiungsfest/
LOCATION:Deweerthscher Garten\, Wuppertal
CATEGORIES:Anderes
END:VEVENT
END:VCALENDAR