BEGIN:VCALENDAR
VERSION:2.0
PRODID:-//so_ko_wpt • intervention und selbstbeherrschung - ECPv4.6.14.1//NONSGML v1.0//EN
CALSCALE:GREGORIAN
METHOD:PUBLISH
X-WR-CALNAME:so_ko_wpt • intervention und selbstbeherrschung
X-ORIGINAL-URL:https://soli-komitee-wuppertal.mobi
X-WR-CALDESC:Veranstaltungen für so_ko_wpt • intervention und selbstbeherrschung
BEGIN:VEVENT
DTSTART;TZID=Europe/Amsterdam:20140605T190000
DTEND;TZID=Europe/Amsterdam:20140605T210000
DTSTAMP:20260419T135156
CREATED:20140515T125918Z
LAST-MODIFIED:20140515T125918Z
UID:4884-1401994800-1402002000@soli-komitee-wuppertal.mobi
SUMMARY:Antifa-Café im AZ Wuppertal
DESCRIPTION:Wöchentliches Antifa-Café im Autonomen Zentrum Wuppertal. Information\, Koordination\, Austausch zur Lage in Wuppertal und Umgebung.\n							Drucken \nArtikel teilen
URL:https://soli-komitee-wuppertal.mobi/event/antifa-cafe-im-az-wuppertal-9/
CATEGORIES:Treffen/Tagung/Konferenz
END:VEVENT
END:VCALENDAR