BEGIN:VCALENDAR
VERSION:2.0
PRODID:-//so_ko_wpt • intervention und selbstbeherrschung - ECPv4.6.14.1//NONSGML v1.0//EN
CALSCALE:GREGORIAN
METHOD:PUBLISH
X-WR-CALNAME:so_ko_wpt • intervention und selbstbeherrschung
X-ORIGINAL-URL:https://soli-komitee-wuppertal.mobi
X-WR-CALDESC:Veranstaltungen für so_ko_wpt • intervention und selbstbeherrschung
BEGIN:VEVENT
DTSTART;TZID=Europe/Amsterdam:20150412T130000
DTEND;TZID=Europe/Amsterdam:20150412T180000
DTSTAMP:20260419T165408
CREATED:20150322T183311Z
LAST-MODIFIED:20150412T095909Z
UID:7850-1428843600-1428861600@soli-komitee-wuppertal.mobi
SUMMARY:Benefiz-Flohmarkt u. Brunchfür "No Primark"
DESCRIPTION:Veranstaltung ist abgesagt. \nAus der Einladung bei Facebook: \nDie Erlöse des Flohmarkts und des Brunchs gehen komplett an die Eisbrecher Wuppertal für die "Recht auf Stadt"-Kampagne und die Kampagne gegen Primark am Döppersberg. Zusätzlich wird Geld wird für ein Centro Sociale und ein Refugee Welcome Center benötigt\, denn auch diese Kampagnen gehen weiter! \nHintergrund: Am 30. August 2014 wurde die Marienstraße 41 besetzt und noch in derselben Nacht wieder geräumt. Nach der Räumung gingen die Proteste gegen Leerstand und für ein Centro Sociale und ein Refugee Welcome Center weiter. Es gab einige Treffen mit Nachbar*Innen\, einen Leerstands-Spaziergang und am 12. September wurde das Gebäude erneut besetzt. Die Polizei riegelte den Ölberg wieder ab und räumte das Gebäude ein zweites mal für erneuten Leerstand. \nZum Flohmarkt: \nWenn Menschen Sachen haben\, die sie nicht mehr gebrauchen können und für den Flohmarkt zur Verfügung stellen wollen\, würden wir uns freuen\, wenn sie diese Sachen am 11. April ab 11:00 Uhr morgens im Stil Bruch vorbei bringen. Wir haben schon einiges gesammelt: u.a. Bassgitarren\, Gitarren\, Verstärker und einiges zum Lesen. Auch wird es einen interessanten Infotisch und selbstgemachte Buttons geben. Selbstgedruckte T-Shirts gibt es und auch für die Kinder ist was dabei. \nEs wird schöne Musik geben und was (Veganes) zu essen und zu trinken gibt es natürlich auch. \nKommt vorbei und unterstützt die Kampagne gegen Primark und für ein Centro Sociale und ein Refugee Welcome Center.  Mehr Informationen über die "Recht Auf Stadt" und "No Primark"-Kampagnen findet ihr u.a. auf: https://eisbrecherwuppertal.wordpress.com/?s=No+Primark\n							Drucken \nArtikel teilen
URL:https://soli-komitee-wuppertal.mobi/event/benefiz-flohmarkt-u-brunch-fur-no-primark/
LOCATION:Marienstraße 58\, Wuppertal
CATEGORIES:Anderes
END:VEVENT
END:VCALENDAR