BEGIN:VCALENDAR
VERSION:2.0
PRODID:-//so_ko_wpt • intervention und selbstbeherrschung - ECPv4.6.14.1//NONSGML v1.0//EN
CALSCALE:GREGORIAN
METHOD:PUBLISH
X-WR-CALNAME:so_ko_wpt • intervention und selbstbeherrschung
X-ORIGINAL-URL:https://soli-komitee-wuppertal.mobi
X-WR-CALDESC:Veranstaltungen für so_ko_wpt • intervention und selbstbeherrschung
BEGIN:VEVENT
DTSTART;TZID=Europe/Amsterdam:20140517T120000
DTEND;TZID=Europe/Amsterdam:20140517T200000
DTSTAMP:20260423T155545
CREATED:20140414T131440Z
LAST-MODIFIED:20140513T130939Z
UID:4489-1400328000-1400356800@soli-komitee-wuppertal.mobi
SUMMARY:Blockupy: Deportation AirportFlughafen Düsseldorf
DESCRIPTION:Am 17. Mai ist der Tag mehrerer zentraler Demons­tra­tionen und Aktionen im Rahmen der „europäi­schen Aktions­tage”. In der Region soll in Düssel­dorf ein antifa­schis­ti­sches & antiras­sis­ti­sches Zeichen am Abschie­be­flug­hafen bei „Blockupy-Depor­ta­tion Airport II” gesetzt werden. Mehr Infos : antifa​.blockupy​.org \n12:00 Uhr : Haupt­bahnhof\, anschlie­ßend dezen­trale Aktionen\n17:00 Uhr : Flughafen Düssel­dorf \nAls Teil der eu­ro­pa­wei­ten Ak­ti­ons­ta­ge gegen die neo­li­be­ra­le\, re­pres­si­ve EU-Kri­sen­­po­­li­tik und ihre Fol­gen wird es am 17.5. auch in Düs­sel­dorf eine Demo und krea­ti­ven\, bun­ten Ak­tio­nen des zi­vi­len Un­ge­hor­sams auf der Kö\, am Kö-Bo­gen und am Flug­ha­fen geben. \nDas Motto der Ak­ti­ons­ta­ge lau­tet „So­li­da­ri­ty Bey­ond Bor­ders – Buil­ding De­mocra­cy From Below ! – #de­mocra­cy – für De­mo­kra­tie von unten ! #com­mons : Ge­mein­güter zurück­ho­len und erkämpfen ! #so­li­da­ri­ty : Kämpfen in So­li­da­ri­tät!“ \nDer Düssel­dorfer Aktionstag  ist Teil der Inter­na­tio­nalen Tage des Wider­standes und des zivilen Ungehor­sams gegen das europäi­sche Krisen­re­gime\, die vom 15.-25. Mai statt­finden : soziale Bewegungen und Organi­sa­tionen aus ganz Europa werden aktiv gegen die Auste­ri­täts­po­litik der Troika. Die Aktions­tage bilden den Auftakt für die Proteste gegen die Eröff­nung des neuen EZB-Gebäudes in Frank­furt a.M. im Herbst 2014 unter dem Motto : Grenzenlos solida­risch – für eine Demokratie von unten ! Los geht es um 12 Uhr am Haupt­bahn­hof Düs­sel­dorf. \nZeigt eure Wut\, zeigt eure So­li­da­ri­tät mit­ein­an­der und zeigt\, dass eine an­de­re Welt mög­lich ist ! \nHier fin­det ihr den kom­plet­ten Auf­ruf (in Deutsch) und wei­te­re ak­tu­el­le Infos. \n\n							Drucken\nArtikel teilen
URL:https://soli-komitee-wuppertal.mobi/event/blockupy-deportation-airportflughafen-dusseldorf/
CATEGORIES:Demo/Kundgebung
END:VEVENT
END:VCALENDAR