BEGIN:VCALENDAR
VERSION:2.0
PRODID:-//so_ko_wpt • intervention und selbstbeherrschung - ECPv4.6.14.1//NONSGML v1.0//EN
CALSCALE:GREGORIAN
METHOD:PUBLISH
X-WR-CALNAME:so_ko_wpt • intervention und selbstbeherrschung
X-ORIGINAL-URL:https://soli-komitee-wuppertal.mobi
X-WR-CALDESC:Veranstaltungen für so_ko_wpt • intervention und selbstbeherrschung
BEGIN:VEVENT
DTSTART;TZID=Europe/Amsterdam:20150613T130000
DTEND;TZID=Europe/Amsterdam:20150613T170000
DTSTAMP:20260423T235922
CREATED:20150528T123146Z
LAST-MODIFIED:20150528T123146Z
UID:8454-1434200400-1434214800@soli-komitee-wuppertal.mobi
SUMMARY:Demo gegen Rassismusund Rechte Gewalt
DESCRIPTION:Zwei Monate nach dem Mordversuch an einem Antifaschisten am Autonomen Zentrum in Wuppertal soll eine Demo "gegen Rassismus und Rechte Gewalt" ein starkes solidarisches zeichen setzen. Wir dokumentieren hier den Aufruf des "Wuppertaler Bündnis gegen Nazis". \nWir rufen dazu auf\, am 13.6.2015 gemeinsam gegen rechte Gewalt auf die Straße zu gehen!\nSolidarität mit dem Opfer des lebensgefährlichen Messerangriffs durch HoGeSa-Nazis!\nSolidarität mit allen Opfern rassistischer Gewalt!\nGegen eine Täter-Opfer-Umkehr! \nAm 11.04.2015 wurde ein Antifaschist mit türkischem Migrationshintergrund vor dem Autonomen Zentrum mit zahlreichen Messerstichen in den Rücken und zusätzlich mit stumpfer Gewalt lebensgefährlich verletzt. Die brutalen Angreifer waren HoGeSa-Nazis. \nDie Täter haben das AZ ganz bewusst aufgesucht. Das AZ organisiert seit Jahren antifaschistischen Widerstand\, auch gegen Pegida und HoGeSa\, zuletzt gegen die große HoGeSa/Pegida-Demonstration hier in Wuppertal am 14.03.2015 . \nEs gibt - nicht nur in Wuppertal - eine neue\, zutiefst besorgniserregend rassistische Entwicklung\, da sich alte und neue Nazi-Hooligans und rechte Schläger*innen\, die das Label „Hooligan“ für sich nutzen\,  zunehmend rassistisch politisieren und hoch gewalttätig agieren.\nSie sind Teil einer unterschiedlich zusammengesetzten\, rassistischen Bewegung\, die seit einigen Monaten bundesweit zahlreiche große und kleine Aufmärsche durchführt. Diese rassistische Bewegung tritt aber ebenso durch angegriffene und angezündete Flüchtlingsunterkünfte und brutale körperliche Übergriffe in Erscheinung. In ihr Visier geraten dabei verschiedene Gruppen\, insbesondere Geflüchtete und Migrant*innen\, Muslime / Muslima aber auch alle aktiven Antifaschist*innen\, die sich ihnen in den Weg stellen. Die rapide Zuspitzung dieses Gefahrenpotenzials muss thematisiert und in der Öffentlichkeit wahrgenommen werden. \nDieser Bedrohung gilt es gemeinsam und solidarisch entgegen zu treten! \nDie polizeilichen Ermittlungen nach dem Angriff haben sich aus vielfältigen Gründen heftige Kritik zugezogen: \nObwohl es sehr schnell eindeutige Hinweise darauf gab\, dass die Täter aus dem HoGeSa-Spektrum kommen \, werden seitens der Polizei  Vorladungen an Ersthelfer*innen und Zeug*innen als Beschuldigte zugestellt. Dies sogar noch Wochen nach der Festnahme eines geständigen Täters. \nIn der ersten Pressemitteilung der Polizei wurde der offensichtliche Hintergrund der Tat nicht eindeutig benannt\, stattdessen wurden Besucher*innen des AZs diffamiert und suggeriert\, die Tat habe im AZ stattgefunden. Somit wird der Fokus von den Tätern auf die Opfer gelenkt. \nDas Verschweigen und Nicht-Benennen von Rassismus\, das Bezeichnen von rechter Gewalt als “rechts/links - Auseinandersetzung” sowie die Kultur des Tolerierens und Wegschauens trägt dazu bei\, Dimensionen rechter Gewalt zu verharmlosen und führt zu einem weiteren Erstarken menschenfeindlicher Bewegungen jeglicher Art. \nEs muss den Sicherheitsbehörden und Teilen der Presse\, die die Erklärungen der Polizei ungeprüft übernommen haben\, unterstellt werden\, dass der HoGeSa / Pegida – Nazi- Hintergrund der Tat verharmlost\, bagatellisiert\, relativiert und letztendlich vor der Öffentlichkeit verborgen werden soll(te). \nDieses Agieren der Sicherheitsorgane und Teilen der Presse  in Wuppertal ist kein Einzelfall. Als schreckliche und katastrophale Beispiele müssen in diesem Zusammenhang die Ermittlungen um die Morde des NSU und den Nagelbombenanschlag auf die Kölner Keupstraße genannt werden. Dort geriet das private Umfeld der Opfer unter Verdacht. Die Opfer leiden noch heute unter den Verdächtigungen und der Stigmatisierung. \nRechte Gewalt muss benannt werden! \nDurch die bereits genannten Diffamierungsstrategien\, die bis heute nicht revidiert worden sind\, wird versucht\, eine breite Solidarität zu verhindern. Dies soll nicht gelingen!\n \nFa?izme Kar?? Omuz Omuza !\nGegen das Verschweigen und Nicht-Benennen von Rassismus!\nGemeinsam gegen rechte Gewalt !\n							Drucken \nArtikel teilen
URL:https://soli-komitee-wuppertal.mobi/event/bundnisdemo/
CATEGORIES:Demo/Kundgebung
END:VEVENT
END:VCALENDAR