BEGIN:VCALENDAR
VERSION:2.0
PRODID:-//so_ko_wpt • intervention und selbstbeherrschung - ECPv4.6.14.1//NONSGML v1.0//EN
CALSCALE:GREGORIAN
METHOD:PUBLISH
X-WR-CALNAME:so_ko_wpt • intervention und selbstbeherrschung
X-ORIGINAL-URL:https://soli-komitee-wuppertal.mobi
X-WR-CALDESC:Veranstaltungen für so_ko_wpt • intervention und selbstbeherrschung
BEGIN:VEVENT
DTSTART;TZID=Europe/Amsterdam:20171209T140000
DTEND;TZID=Europe/Amsterdam:20171209T170000
DTSTAMP:20260420T080941
CREATED:20171205T163040Z
LAST-MODIFIED:20171205T163040Z
UID:14317-1512828000-1512838800@soli-komitee-wuppertal.mobi
SUMMARY:Cars of Hope Kaffeeklatsch
DESCRIPTION:Cars of Hope verkauft Kaffee\, Tee\, Kuchen und vieles mehr. Jede/r kann gegen eine Spende für die Initiative\, die Geflüchtete in griechischen Lagern unterstützt\, soviel essen und trinken wie er oder sie möchte. Wer kein Geld hat\, darf auch gerne einfach so vorbei kommen... Kinder sind ebenfalls herzlich willkommen - es gibt einen Kinderaum. \n  \n  \nWestring 74 (FeG Wuppertal-Vohwinkel)\n							Drucken \nArtikel teilen
URL:https://soli-komitee-wuppertal.mobi/event/cars-of-hope-kaffeeklatsch/
LOCATION:Westring 74\, Wuppertal-Vohwinkel
CATEGORIES:Anderes
END:VEVENT
END:VCALENDAR