BEGIN:VCALENDAR
VERSION:2.0
PRODID:-//so_ko_wpt • intervention und selbstbeherrschung - ECPv4.6.14.1//NONSGML v1.0//EN
CALSCALE:GREGORIAN
METHOD:PUBLISH
X-WR-CALNAME:so_ko_wpt • intervention und selbstbeherrschung
X-ORIGINAL-URL:https://soli-komitee-wuppertal.mobi
X-WR-CALDESC:Veranstaltungen für so_ko_wpt • intervention und selbstbeherrschung
BEGIN:VEVENT
DTSTART;TZID=Europe/Amsterdam:20140630T193000
DTEND;TZID=Europe/Amsterdam:20140630T220000
DTSTAMP:20260423T153959
CREATED:20140601T162623Z
LAST-MODIFIED:20140601T162623Z
UID:5046-1404156600-1404165600@soli-komitee-wuppertal.mobi
SUMMARY:Casa Pound: MussolinisErben - Vortrag in Ddorf
DESCRIPTION:INPUT – antifaschistischer Themenabend: Casa Pound Italia: Mussolinis Erben – Referent: Heiko Koch (Autor von Casa Pound Italia. Mussolinis Erben\, 2013 erschienen im Unrast-Verlag\, Münster) Seit 10 Jahren existiert die populistische Bewegung CasaPound Italia. Ihre Wurzeln sieht sie im historischen Faschismus zu Beginn der 1920er Jahre; in der Zeit als der italienische Faschismus noch nicht Regime\, sondern eine Bewegung mit revolutionärem Anstrich war und sich mit Terror und Gewalt den Weg zur Macht ebnete. Die Anhänger CasaPounds nennen sich “i fascisti del terzo millennio”\, die Faschisten des 3. Jahrtausends. Sie agieren mit aggressiv vorgetragenen Sozialforderungen\, vordergründigem Anti-Kapitalismus und national-revolutionären Parolen. Dabei arbeiten sie bewusst mit den Folgen der aktuellen ökonomischen Krise und inszenieren sich als soziale Opposition von rechts außen. \nMit einem breiten Angebot von sozialen\, kulturellen und politischen Aktivitäten und unter Ausschöpfung moderner Kommunikationsmittel hat es CasaPound geschafft\, sich von Rom aus über die ganze Apenninische Halbinsel zu verbreiten. Von Subkulturen und der radikalen Linken adaptierte Aktionsformen\, jugendgerechtes Auftreten\, popkulturelle Ästhetik und Lifestyle lassen von CasaPound das Bild einer vielfältigen und dynamischen Bewegung entstehen\, die jedoch nach innen straff autoritär geführt wird. \nEine Veranstaltung in Kooperation mit SJD – Die Falken Düsseldorf\n							Drucken \nArtikel teilen
URL:https://soli-komitee-wuppertal.mobi/event/casa-pound-mussolinis-erben/
LOCATION:Corneliusstraße 108\, Düsseldorf
CATEGORIES:Veranstaltung/Vortrag
END:VEVENT
END:VCALENDAR