BEGIN:VCALENDAR
VERSION:2.0
PRODID:-//so_ko_wpt • intervention und selbstbeherrschung - ECPv4.6.14.1//NONSGML v1.0//EN
CALSCALE:GREGORIAN
METHOD:PUBLISH
X-WR-CALNAME:so_ko_wpt • intervention und selbstbeherrschung
X-ORIGINAL-URL:https://soli-komitee-wuppertal.mobi
X-WR-CALDESC:Veranstaltungen für so_ko_wpt • intervention und selbstbeherrschung
BEGIN:VEVENT
DTSTART;TZID=Europe/Amsterdam:20150206T190000
DTEND;TZID=Europe/Amsterdam:20150206T210000
DTSTAMP:20260419T162907
CREATED:20150122T103035Z
LAST-MODIFIED:20150122T103035Z
UID:7202-1423249200-1423256400@soli-komitee-wuppertal.mobi
SUMMARY:Critical Mass Wuppertal
DESCRIPTION:Bei der Critical Mass geht's um die Eroberung des Straßenraums durch und für Radfahrende. Bei einer "Kolonnenfahrt" (StVO) darf beispielsweise auch bei roten Ampeln die gesamte Kolonne den Kreuzungsbereich passieren. Kommen genügend RadfahrerInnen zusammen\, reicht diese Ausnahmeregelung aus\, den ungestörten Verkehrsfluss des Kraftverkehrs für eine Weile durcheinanderzubringen und dadurch auf die Bedürfnisse des Radverkehrs aufmerksam zu machen. \nReclaim the streets!\nCelebrate Biking in Wuppertal!\nCelebrate Critical Mass Wuppertal! \nHomepage der CMwpt\n							Drucken \nArtikel teilen
URL:https://soli-komitee-wuppertal.mobi/event/critical-mass-wuppertal-9/
CATEGORIES:Demo/Kundgebung
END:VEVENT
END:VCALENDAR