BEGIN:VCALENDAR
VERSION:2.0
PRODID:-//so_ko_wpt • intervention und selbstbeherrschung - ECPv4.6.14.1//NONSGML v1.0//EN
CALSCALE:GREGORIAN
METHOD:PUBLISH
X-WR-CALNAME:so_ko_wpt • intervention und selbstbeherrschung
X-ORIGINAL-URL:https://soli-komitee-wuppertal.mobi
X-WR-CALDESC:Veranstaltungen für so_ko_wpt • intervention und selbstbeherrschung
BEGIN:VEVENT
DTSTART;TZID=Europe/Amsterdam:20150329T140000
DTEND;TZID=Europe/Amsterdam:20150329T170000
DTSTAMP:20260419T165142
CREATED:20150217T202440Z
LAST-MODIFIED:20150217T202440Z
UID:7565-1427637600-1427648400@soli-komitee-wuppertal.mobi
SUMMARY:Das braune ElberfeldStadtspaziergang
DESCRIPTION:Historischer Stadtspaziergang auf den Spuren der NS-Zeit in Wuppertal mit Michael Okroy. \nViele Orte und Gebäude in der Elberfelder Innenstadt waren in der NS-Zeit und in den Jahren der Weimarer Republik Schauplätze von politisch wichtigen Ereignissen. So diente z.B. das Evangelische Vereinshaus an der Kasinostraße in den 1920er Jahren als wichtigster Versammlungsort der völkisch-nationalen Bewegung. Ihre wichtigsten Führer\, u.a. Hitler und Goebbels traten dort als Redner auf. Von 1922 bis 1939 befand sich im oberen Teil des Gebäudes das Polizeipräsidium\, das seit dem Machtantritt der Nazis Ausgangspunkt der Razzien gegen NS-Gegner war. \nWeitere Stationen des Rundgangs sind das frühere Gestapogefängnis\, die Stadtbibliothek\, die ehemalige „Rasseberatungsstelle“ des städtischen Gesundheitsamtes und das einstige prächtige Warenhaus der Leonhard Tietz AG\, das schon 1933 "arisiert"  und in "Westdeutsche Kaufhof AG" umbenannt worden war.\n							Drucken \nArtikel teilen
URL:https://soli-komitee-wuppertal.mobi/event/das-braune-elberfeld-stadtspaziergang/
CATEGORIES:Anderes
END:VEVENT
END:VCALENDAR