BEGIN:VCALENDAR
VERSION:2.0
PRODID:-//so_ko_wpt • intervention und selbstbeherrschung - ECPv4.6.14.1//NONSGML v1.0//EN
CALSCALE:GREGORIAN
METHOD:PUBLISH
X-WR-CALNAME:so_ko_wpt • intervention und selbstbeherrschung
X-ORIGINAL-URL:https://soli-komitee-wuppertal.mobi
X-WR-CALDESC:Veranstaltungen für so_ko_wpt • intervention und selbstbeherrschung
BEGIN:VEVENT
DTSTART;TZID=Europe/Amsterdam:20150513T193000
DTEND;TZID=Europe/Amsterdam:20150513T213000
DTSTAMP:20260423T184437
CREATED:20150503T145502Z
LAST-MODIFIED:20150503T145502Z
UID:8196-1431545400-1431552600@soli-komitee-wuppertal.mobi
SUMMARY:Das Leben des Jan KarskiVA mit Marta Kijowska
DESCRIPTION:Kurier der Erinnerung – Das Leben des Jan Karski. Ein Abend mit Marta Kijowska \nJan Karski wurde 1914 in Lodz geboren und hatte eine Diplomatenkarriere vor sich\, als die Wehrmacht Polen überfiel. Unter der deutschen Okkupation wurde er zu einem der aktivsten Mitglieder der polnischen Untergrundbewegung und mit der Zeit zu einem ihrer wichtigsten Kuriere. Im Herbst 1942 wurde er erneut in den Westen geschickt\, diesmal mit einer Doppelmission: er sollte die polnische Exilregierung und die Alliierten über die Arbeit des Untergrunds\, aber auch über das Schicksal der polnischen Juden informieren. Um einen möglichst glaubwürdigen Bericht zu liefern\, ließ er sich vorher ins Warschauer Ghetto und in ein Transitlager im Osten Polens einschleusen. Doch seine Versuche\, die Welt zu alarmieren\, blieben ohne Wirkung: Britische und amerikanische Politiker schenkten seinem Bericht entweder keinen Glauben oder man blieb gleichgültig. Schockiert und enttäuscht\, wollte Karski über seine Erlebnisse nie wieder sprechen. Erst Ende der 1970er Jahre gelang es Claude Lanzmann\, ihn für seinen Dokumentarfilm „Shoa“ vor die Kamera zu holen. Seitdem betätigte sich Karski erneut als Kurier\, diesmal als Kurier der Erinnerung. \nMarta Kijowska\, geboren in Krakau\, lebt in München. Sie ist tätig als Journalistin für renommierte Zeitungen\, Hörfunk und Fernsehen vor allem zu Themen der polnischen Kultur\, Literatur und Geschichte sowie als Sachbuchautorin und literarische Übersetzerin aus dem Polnischen. \nEine Veranstaltung des Literaturhauses Wuppertal e.V.\n							Drucken \nArtikel teilen
URL:https://soli-komitee-wuppertal.mobi/event/das-leben-des-jan-karski/
LOCATION:Genügsamkeitsstraße\, Wuppertal
CATEGORIES:Veranstaltung/Vortrag
END:VEVENT
END:VCALENDAR