BEGIN:VCALENDAR
VERSION:2.0
PRODID:-//so_ko_wpt • intervention und selbstbeherrschung - ECPv4.6.14.1//NONSGML v1.0//EN
CALSCALE:GREGORIAN
METHOD:PUBLISH
X-WR-CALNAME:so_ko_wpt • intervention und selbstbeherrschung
X-ORIGINAL-URL:https://soli-komitee-wuppertal.mobi
X-WR-CALDESC:Veranstaltungen für so_ko_wpt • intervention und selbstbeherrschung
BEGIN:VEVENT
DTSTART;TZID=Europe/Amsterdam:20160617T193000
DTEND;TZID=Europe/Amsterdam:20160617T235500
DTSTAMP:20260423T123921
CREATED:20160531T143544Z
LAST-MODIFIED:20160601T113457Z
UID:11318-1466191800-1466207700@soli-komitee-wuppertal.mobi
SUMMARY:Konzert: Deathmetal im AZ
DESCRIPTION:check out this Monster Line-Up: \nDEATHRITE\nDeathmetal | Leipzig / Dresden – deathrite.bandcamp.com/ \nGRIM VAN DOOM\nDowntempo / Sludge / HC | Wuppertal – grimvandoom.bandcamp.com/ \nMORAST\nDoom / Death | NRW – morast.bandcamp.com/releases \nAnam\nDeathmetal | Wuppertal – www.facebook.com/death.anam/app/178091127385/ \nDisclaimer: dumme Faschoschweine\, infantile Sexisten oder homophobe Arschlöcher haben bei einer Hannya Show nichts zu suchen. Ihr kennt die Regeln. Auf ein feucht-fröhliches und tolerantes Metalfest!\n							Drucken \nArtikel teilen
URL:https://soli-komitee-wuppertal.mobi/event/deathmetal-im-az/
CATEGORIES:Anderes,Konzert/Party
END:VEVENT
END:VCALENDAR