BEGIN:VCALENDAR
VERSION:2.0
PRODID:-//so_ko_wpt • intervention und selbstbeherrschung - ECPv4.6.14.1//NONSGML v1.0//EN
CALSCALE:GREGORIAN
METHOD:PUBLISH
X-WR-CALNAME:so_ko_wpt • intervention und selbstbeherrschung
X-ORIGINAL-URL:https://soli-komitee-wuppertal.mobi
X-WR-CALDESC:Veranstaltungen für so_ko_wpt • intervention und selbstbeherrschung
BEGIN:VEVENT
DTSTART;TZID=Europe/Amsterdam:20130817T140000
DTEND;TZID=Europe/Amsterdam:20130817T180000
DTSTAMP:20260420T115929
CREATED:20130807T160742Z
LAST-MODIFIED:20130807T161011Z
UID:3066-1376748000-1376762400@soli-komitee-wuppertal.mobi
SUMMARY:Demo "Lampedusa in Hamburg"
DESCRIPTION:Seit dem 21. Mai 2013 protestieren etwa 300 Flüchtlinge in Hamburg für ihr Recht auf Leben. Ihnen blieb während des NATO-Krieges gegen Libyen keine andere Wahl\, als das Land zu verlassen. Sie sind in Italien gewesen\, haben dort aber außer Aufenthaltspapiere kein sicheres Leben vorgefunden. Die Lebensumstände haben sie dazu gezwungen\, Italien zu verlassen. In Hamburg fanden einige von ihnen während den Wintermonaten ein Notunterkunft in einem Obdachlosenunterkunft aber keine rechtliche Freiheit ihr Leben selbst zu bestreiten. Als sie am 15. April 2013 von der Stadt Hamburg auf die Straße gesetzt worden\, formierten sie sich und protestierten. Denn ihnen bleibt keine andere Wahl\, sie sind Spielball der NATO und der europäischen Regierungen geworden. Mit ihrem Protest\, der mittlerweile seit dem 21. Mai 2013 auf der Straße in Hamburg ausgefochten wird\, wollen sie ihr natrürliches Recht auf einem Lebensraum auf diesem Planeten durchsetzen und entlarven nebenbei tagtäglich die Lügen\, die uns die politische Elite der BRD und ihre Propagandaorgane jeden Tag von neuem erzählen. \nAm 20. Juni 2013 haben die protestierenden Flüchtlinge in Hamburg eine Kampagne gestartet und die Umsetzung von §23 des Aufenthaltsgesetzes gefordert. Um ihren Forderungen Nachdruck zu verleihen\, rufen sie zu einer Demonstration am 17. August in Hamburg auf. \nIhr könnt eure Solidarität auf verschiedene Art und Weisen verwirklichen:\nUnterstützt die Faxkampagne und verbreitet diese: lampedusa-in-hh.bplaced.net \nBezieht eigene Position und veröffentlicht Stellungnahmen oder schreibt einfach Solidaritätsgrüße nach Hamburg \nMobilisiert zur Demo am 17. August 2013 nach Hamburg und verbreitet die Aufrufe in deutsch\, englisch \nDer permanente Widerstand auf der Straße braucht auch Mittel. Jeder Euro zählt und hilft der Kontinuität des Protestes: Spenden können mit Stichwort "Hamburg" an das folgende Konto gerichtet werden:\nFörderverein Karawane e.V.\n Kontonummer: 40 30 780 800\n GLS Gemeinschaftsbank eG\n BLZ: 430 609 67 \nDen direkten Kontakt zu den Freunden in Hamburg findet ihr auf der Internetseite des Protestes: lampedusa-in-hh.bplaced.net \nIm Anschluss einige Videos mit Infos zum Hamburger Protest der "Lampedusa-Gruppe". \nInterview zum Thema mit Affo Tchassei einem der Sprecher des Protestes:\n \nLampedusa in Hamburg\, Demo und Solidaritätsfest\, 8.6.2013\n \nInterview mit Salvatore Fachile über die Situation in Italien\nund über das europäische Dublin-Ankommen\nRom\, 28. Januar 2013\n \nBoshaftes Europa - Der Protest von "Lampedusa in Hamburg"\nEin Videobeitrag von 3Sat\nhttp://www.3sat.de/page/?source=/kulturzeit/themen/170433/index.html \nMobi-Video für die Demo am 17. August 2013 in Hamburg\nhttp://www.youtube.com/watch?v=kmLcdgh7Ik0\n							Drucken \nArtikel teilen
URL:https://soli-komitee-wuppertal.mobi/event/demo-lampedusa-in-hamburg/
CATEGORIES:Demo/Kundgebung
END:VEVENT
END:VCALENDAR