BEGIN:VCALENDAR
VERSION:2.0
PRODID:-//so_ko_wpt • intervention und selbstbeherrschung - ECPv4.6.14.1//NONSGML v1.0//EN
CALSCALE:GREGORIAN
METHOD:PUBLISH
X-WR-CALNAME:so_ko_wpt • intervention und selbstbeherrschung
X-ORIGINAL-URL:https://soli-komitee-wuppertal.mobi
X-WR-CALDESC:Veranstaltungen für so_ko_wpt • intervention und selbstbeherrschung
BEGIN:VEVENT
DTSTART;TZID=Europe/Amsterdam:20150626T190000
DTEND;TZID=Europe/Amsterdam:20150626T220000
DTSTAMP:20260424T002312
CREATED:20150527T120513Z
LAST-MODIFIED:20150527T120513Z
UID:8433-1435345200-1435356000@soli-komitee-wuppertal.mobi
SUMMARY:DIE LÜCKE Theater in KölnEin Stück Keupstraße
DESCRIPTION:Am 9. Juni 2014 ist es zehn Jahre her\, dass in der Kölner Keupstraße eine auf einem Fahrrad montierte Nagelbombe 18 Menschen zum Teil schwer verletzte und zahlreiche Geschäfte zerstörte. Ziel des feigen Anschlages waren die Menschen\, die in der vor allem türkisch geprägten Straße lebten und mit ihnen das Lebensmodell einer offenen Gesellschaft. Verübt wurde der Anschlag\, wie sich 2011 herausstellte\, vom rechtsterroristischen Nationalsozialistischen Untergrund (NSU)\, doch Polizei und Politik schlossen sieben Jahre lang einen fremdenfeindlichen Hintergrund der Tat aus. Stattdessen rückten die Anwohner selbst ins Zentrum der Ermittlungen: Die eigentlichen Opfer des Anschlages wurden zu potentiellen Tätern. \nHeute\, zehn Jahre nach dem Anschlag\, werden in München der NSU-Terror und seine Folgen vor Gericht verhandelt. In der Keupstrasse in Köln hat der Autor\, Regisseur und Filmemacher Nuran David Calis ein Jahr lang immer wieder Anwohner und Geschäftsleute getroffen und sie gefragt\, wie sie den Anschlag und die Zeit danach erlebt haben. Aber er hat auch nach den Geschichten der Keupstrasse von heute gefragt\, und danach\, wie sich das Leben auf dieser besonderen Straße im Laufe der Jahre verändert hat. So entsteht ein Bild der Keupstrasse aus der Sicht der Menschen\, die dort leben. Und es wird erzählt von ihnen selbst. Denn Anwohner und Geschäftsleute stehen gemeinsam mit Schauspielern auf der Bühne. Gespielt wird im Theater und in der Keupstraße selbst in unmittelbarer Nachbarschaft des Depot. \nLetzte Aufführung des Stücks.\n							Drucken \nArtikel teilen
URL:https://soli-komitee-wuppertal.mobi/event/die-lucke-theater-in-koln-ein-stuck-keupstrase/
LOCATION:Schanzenstraße 6-20\, Köln
CATEGORIES:Film/Theater
END:VEVENT
END:VCALENDAR