BEGIN:VCALENDAR
VERSION:2.0
PRODID:-//so_ko_wpt • intervention und selbstbeherrschung - ECPv4.6.14.1//NONSGML v1.0//EN
CALSCALE:GREGORIAN
METHOD:PUBLISH
X-WR-CALNAME:so_ko_wpt • intervention und selbstbeherrschung
X-ORIGINAL-URL:https://soli-komitee-wuppertal.mobi
X-WR-CALDESC:Veranstaltungen für so_ko_wpt • intervention und selbstbeherrschung
BEGIN:VEVENT
DTSTART;VALUE=DATE:20140201
DTEND;VALUE=DATE:20140202
DTSTAMP:20260422T083153
CREATED:20140122T234323Z
LAST-MODIFIED:20140131T214524Z
UID:3875-1391212800-1391299199@soli-komitee-wuppertal.mobi
SUMMARY:döpps105 InfoständeUnterschriftensammlung
DESCRIPTION:Die Initiative döpps105 sammelt seit dem 18.01. Unterschriften für einen Bürgerentscheid zum Döppersberg. Am nächsten Wochenende sind ihre Infostände\, an denen unterschrieben werden kann\, in drei Wuppertaler Stadtteilen zu finden: in Cronenberg auf der Hauptstraße (in der Nähe der "Bücherkiste"  von 10-14 Uhr; in Barmen am Werth von 11-14 Uhr und in Elberfeld auf der Alten Freiheit von 11-17 Uhr. \nIn der folgenden Woche setzt die Initiative dann erstmals auch ein "Unterschriftenmobil" ein\, mit dem bei publikumsintensiven Ereignissen Unterschriften gesammelt werden sollen.\n							Drucken \nArtikel teilen
URL:https://soli-komitee-wuppertal.mobi/event/dopps105-infostande/
CATEGORIES:Anderes
END:VEVENT
END:VCALENDAR