BEGIN:VCALENDAR
VERSION:2.0
PRODID:-//so_ko_wpt • intervention und selbstbeherrschung - ECPv4.6.14.1//NONSGML v1.0//EN
CALSCALE:GREGORIAN
METHOD:PUBLISH
X-WR-CALNAME:so_ko_wpt • intervention und selbstbeherrschung
X-ORIGINAL-URL:https://soli-komitee-wuppertal.mobi
X-WR-CALDESC:Veranstaltungen für so_ko_wpt • intervention und selbstbeherrschung
BEGIN:VEVENT
DTSTART;TZID=Europe/Amsterdam:20160414T193000
DTEND;TZID=Europe/Amsterdam:20160414T213000
DTSTAMP:20260423T112537
CREATED:20160404T123104Z
LAST-MODIFIED:20160404T123104Z
UID:10870-1460662200-1460669400@soli-komitee-wuppertal.mobi
SUMMARY:Führung: Fundstücke ausdem Dritten Reich
DESCRIPTION:Fundstücke aus dem Dritten Reich – Öffentliche Abendführung im Jüdischen Museum \nIn der Begegnungsstätte Alte Synagoge ist eine Dauerausstellung über die jüdische Religion und Geschichte im Wuppertal und der Region zu sehen. Objekte\, Dokumente und Fotografien beleuchten die jüdische Geschichte seit ihren Anfängen – das älteste Dokument stammt aus dem Jahr 1682 – bis heute. \nViele ehemalige bergischen Jüdinnen und Juden\, die in der Zeit des Nationalsozialismus ihre Heimat verlassen mussten\, haben der Begegnungsstätte einmalige und berührende Erinnerungsstücke zur Verfügung gestellt. Diese Objekte\, Dokumente und Fotografien erzählen eine Geschichte von Abschied und Verlust\, aber sie halten zugleich eine lebendige Verbindung zur „bergischen Diaspora“ und ihren Nachfahren. \nWichtiger Programmpunkt der Führung sind die Objekte der Sonderausstellung "Fundstücke aus dem Dritten Reich". \nLeitung: Christine Hartung M.A.\, Mitarbeitern der Begegnungsstätte Alte Synagoge \n							Drucken \nArtikel teilen
URL:https://soli-komitee-wuppertal.mobi/event/fuhrung-fundstucke-aus-dem-dritten-reich/
CATEGORIES:Anderes
END:VEVENT
END:VCALENDAR