BEGIN:VCALENDAR
VERSION:2.0
PRODID:-//so_ko_wpt • intervention und selbstbeherrschung - ECPv4.6.14.1//NONSGML v1.0//EN
CALSCALE:GREGORIAN
METHOD:PUBLISH
X-WR-CALNAME:so_ko_wpt • intervention und selbstbeherrschung
X-ORIGINAL-URL:https://soli-komitee-wuppertal.mobi
X-WR-CALDESC:Veranstaltungen für so_ko_wpt • intervention und selbstbeherrschung
BEGIN:VEVENT
DTSTART;TZID=Europe/Amsterdam:20160627T173000
DTEND;TZID=Europe/Amsterdam:20160627T183000
DTSTAMP:20260423T082405
CREATED:20160615T091619Z
LAST-MODIFIED:20160615T091619Z
UID:11403-1467048600-1467052200@soli-komitee-wuppertal.mobi
SUMMARY:Gedenken: 75 JahreMassaker von Bialystok
DESCRIPTION:27.6.2016: 75. Jahrestag des Massakers in Bialystok \nAm 27.Juni 1941 ermordeten Angehörige eines Polizeibataillons unter Beteiligung von Wuppertaler Polizisten etwa 700 Juden in Bialystok. Die Mörder sperrten die Menschen in die Synagoge und zündeten das Gebäude an. Wer aus dem Gebäude fliehen wollte\, wurde von Polizisten erschossen. Um 17:30 Uhr sollen aus diesem Anlass Blumen am Polizeipräsidium niedergelegt werden.\n							Drucken \nArtikel teilen
URL:https://soli-komitee-wuppertal.mobi/event/gedenken-75-jahre-massaker-von-bialystok/
LOCATION:Friedrich-Engels-Allee 228\, Wuppertal
CATEGORIES:Anderes
END:VEVENT
END:VCALENDAR