BEGIN:VCALENDAR
VERSION:2.0
PRODID:-//so_ko_wpt • intervention und selbstbeherrschung - ECPv4.6.14.1//NONSGML v1.0//EN
CALSCALE:GREGORIAN
METHOD:PUBLISH
X-WR-CALNAME:so_ko_wpt • intervention und selbstbeherrschung
X-ORIGINAL-URL:https://soli-komitee-wuppertal.mobi
X-WR-CALDESC:Veranstaltungen für so_ko_wpt • intervention und selbstbeherrschung
BEGIN:VEVENT
DTSTART;TZID=Europe/Amsterdam:20150126T193000
DTEND;TZID=Europe/Amsterdam:20150126T220000
DTSTAMP:20260419T135335
CREATED:20150119T194229Z
LAST-MODIFIED:20150122T121431Z
UID:7133-1422300600-1422309600@soli-komitee-wuppertal.mobi
SUMMARY:Hooligans u. Rechte in NRWDiskussion in Ddorf
DESCRIPTION:Wie gefährlich sind Rechtsradikale und Hooligans in NRW? Diskussion / Vortrag mit Arnold Plickert\, N.N. (Fortuna Düsseldorf Fan)\, Rechtsanwalt (N.N.). Moderation: Achim Schmitz-Forte (Köln). Eine Veranstaltung der Rosa Luxemburg Stiftung NRW. \nDie Versammlung von Hooligans und Rechtsradikalen in Köln im Oktober 2014 haben eine hohe Gewaltbereitschaft offenbart. \nDas Podium diskutiert folgende Fragen: \nWie groß ist diese Szene? Wie lassen sich solche Gewalttaten in Zukunft verhindern? Gab es Fehler bei der Polizei und den sonst zuständigen Behörden? Wie muss sich dem Thema gesamtgesellschaftlich begegnet werden?\n							Drucken \nArtikel teilen
URL:https://soli-komitee-wuppertal.mobi/event/hooligans-u-rechte-in-nrwdiskussion-in-ddorf/
CATEGORIES:Veranstaltung/Vortrag
END:VEVENT
END:VCALENDAR