BEGIN:VCALENDAR
VERSION:2.0
PRODID:-//so_ko_wpt • intervention und selbstbeherrschung - ECPv4.6.14.1//NONSGML v1.0//EN
CALSCALE:GREGORIAN
METHOD:PUBLISH
X-WR-CALNAME:so_ko_wpt • intervention und selbstbeherrschung
X-ORIGINAL-URL:https://soli-komitee-wuppertal.mobi
X-WR-CALDESC:Veranstaltungen für so_ko_wpt • intervention und selbstbeherrschung
BEGIN:VEVENT
DTSTART;TZID=Europe/Amsterdam:20150411T203000
DTEND;TZID=Europe/Amsterdam:20150411T235500
DTSTAMP:20260419T152705
CREATED:20150322T182735Z
LAST-MODIFIED:20150411T095931Z
UID:7847-1428784200-1428796500@soli-komitee-wuppertal.mobi
SUMMARY:Info-VA u. Soli-Party fürdie "No Primark"-Kampagne
DESCRIPTION:Benefizparty & Infoabend für die No Primark - Recht Auf Stadt Kampagne (fällt aus) \nAus der Einladung bei Facebook: \nTanzen gegen Primark bei einer Eisbrecher Soli-Party\, denn die "Recht auf Stadt"-Kampagne gegen Primark am Döppersberg kostet viel Geld. Am Anfang wollen wir uns gerne mit euch über die Recht auf Stadt Kampagne für ein Centro Sociale und ein Refugee Welcome Center unterhalten\, aber auch über die Kampagne gegen den Bau von einem Betonklotz für Primark am Döppersberg informieren. \nDie Erlöse gehen komplett an die Eisbrecher Wuppertal für die Kampagnen. \nEs wird schöne Musik geben und was (Veganes) zu essen und zu trinken gibt es natürlich auch.\nKommt vorbei und unterstützt die Kampagne für ein Centro Sociale und ein Refugee Welcome Center. \nMehr Informationen über die Recht Auf Stadt und No Primark Kampagne findet ihr u.a. auf:\nhttp://www.eisbrecherwuppertal.wordpress.com/\n							Drucken \nArtikel teilen
URL:https://soli-komitee-wuppertal.mobi/event/info-va-u-soli-party-fur-die-no-primark-kampagne/
CATEGORIES:Veranstaltung/Vortrag
END:VEVENT
END:VCALENDAR