BEGIN:VCALENDAR
VERSION:2.0
PRODID:-//so_ko_wpt • intervention und selbstbeherrschung - ECPv4.6.14.1//NONSGML v1.0//EN
CALSCALE:GREGORIAN
METHOD:PUBLISH
X-WR-CALNAME:so_ko_wpt • intervention und selbstbeherrschung
X-ORIGINAL-URL:https://soli-komitee-wuppertal.mobi
X-WR-CALDESC:Veranstaltungen für so_ko_wpt • intervention und selbstbeherrschung
BEGIN:VEVENT
DTSTART;TZID=Europe/Amsterdam:20150208T150000
DTEND;TZID=Europe/Amsterdam:20150208T190000
DTSTAMP:20260419T175420
CREATED:20150122T103229Z
LAST-MODIFIED:20150204T221227Z
UID:7205-1423407600-1423422000@soli-komitee-wuppertal.mobi
SUMMARY:Internationales Caféim Karawane-Laden
DESCRIPTION:Thema in diesem Monat: Arm gegen Reich oder Kampf der Kulturen? \nAbschiebung\, Ausbeutung\, Destruktion\, Kriege\, Plünderung auf der einen Seite\, Ablenkung\, Desinformation\, Manipulation und Vertuschung auf der anderen Seite für die Fortführung des Unrechts und der ungleichen globalen Arbeitsteilung. \nDie herrschenden der Welt treffen sich jährlich im Winter in Davos und lassen verlautbaren\, sie wollen die Welt verbessern und nehmen der Menschheit nicht nur das Brot und Wasser weg. Solidarität\, gemeinsames ökonomisches\, politisches und bedürfnisorientiertes Handeln\, Zärtlichkeit und Liebe wären mögliche Prinzipien der Unterdrückten und Entrechteten\, die Welt anders zu organisieren. Doch stattdessen stürzen wir permanent in die Fallen der Spaltung und des Hasses und metzeln uns gegenseitig. \nDer Kampf der Kulturen wurde von den herrschenden Vordenkern ausgerufen und wir folgen blind. An diesem Sonntag wollen wir gemeinsam diskutieren\, unsere Ansichten und Wissen miteinander teilen und überlegen\, wo wir jenseits von Frau und Mann\, jung und alt\, PEGIDA und antimuslimische Hetze\, jenseits von unsichtbaren und tatsächlichen sozialen Grenzen und Erniedrigung eine gemeinsame Basis für das tägliche Handeln ableiten können. \nAn jedem zweiten Sonntag eines Monats bietet die Karawane für die Rechte der Flüchtlinge und MigrantInnen in ihrem Laden in der Marienstraße auf dem Ölberg in der Elberfelder Nordstadt ein Internationales Café an. Häufig werden dazu Gäste und GesprüchspartnerInnen eingeladen\, mit denen zumeist flüchtlingspolitische Themen besprochen werden. Interessierte sind jederzeit willkommen.\n							Drucken \nArtikel teilen
URL:https://soli-komitee-wuppertal.mobi/event/internationales-cafe-im-karawane-laden/
CATEGORIES:Veranstaltung/Vortrag
END:VEVENT
END:VCALENDAR