BEGIN:VCALENDAR
VERSION:2.0
PRODID:-//so_ko_wpt • intervention und selbstbeherrschung - ECPv4.6.14.1//NONSGML v1.0//EN
CALSCALE:GREGORIAN
METHOD:PUBLISH
X-WR-CALNAME:so_ko_wpt • intervention und selbstbeherrschung
X-ORIGINAL-URL:https://soli-komitee-wuppertal.mobi
X-WR-CALDESC:Veranstaltungen für so_ko_wpt • intervention und selbstbeherrschung
BEGIN:VEVENT
DTSTART;TZID=Europe/Amsterdam:20140608T150000
DTEND;TZID=Europe/Amsterdam:20140608T183000
DTSTAMP:20260419T134024
CREATED:20140414T113718Z
LAST-MODIFIED:20140414T113736Z
UID:4418-1402239600-1402252200@soli-komitee-wuppertal.mobi
SUMMARY:Internationales Caféim Karawane-Laden
DESCRIPTION:An jedem zweiten Sonntag eines Monats bietet die Karawane für die Rechte der Flüchtlinge und MigrantInnen in ihrem Laden in der Marienstraße auf dem Ölberg in der Elberfelder Nordstadt ein Internationales Café an. Häufig werden dazu Gäste und GesprüchspartnerInnen eingeladen\, mit denen zumeist flüchtlingspolitische Themen besprochen werden. Interessierte sind jederzeit willkommen. Achtet auf besondere Ankündigungen!\n							Drucken \nArtikel teilen
URL:https://soli-komitee-wuppertal.mobi/event/internationales-cafe-juni/
CATEGORIES:Treffen/Tagung/Konferenz
END:VEVENT
END:VCALENDAR