BEGIN:VCALENDAR
VERSION:2.0
PRODID:-//so_ko_wpt • intervention und selbstbeherrschung - ECPv4.6.14.1//NONSGML v1.0//EN
CALSCALE:GREGORIAN
METHOD:PUBLISH
X-WR-CALNAME:so_ko_wpt • intervention und selbstbeherrschung
X-ORIGINAL-URL:https://soli-komitee-wuppertal.mobi
X-WR-CALDESC:Veranstaltungen für so_ko_wpt • intervention und selbstbeherrschung
BEGIN:VEVENT
DTSTART;TZID=Europe/Amsterdam:20140111T210000
DTEND;TZID=Europe/Amsterdam:20140111T230000
DTSTAMP:20260419T152501
CREATED:20131231T153031Z
LAST-MODIFIED:20131231T153031Z
UID:3762-1389474000-1389481200@soli-komitee-wuppertal.mobi
SUMMARY:Jede Musik ist PolitikZapatismus und Musik (Vortrag)
DESCRIPTION:Toda Música es política / Jede Musik ist Politik ?– Zapatismus und Musik - Die Zapatistas mischten mit ihrer in­no­va­ti­ven (Me­di­en-)­Po­li­tik und ihren Ideen linke und Kul­tur-Sze­ne glei­cher­ma­ßen auf\, und zwar welt­weit. Den Einfluss auf Musik und Musiker_innen zeigt die Me­di­en­wis­sen­schaft­le­rin Ga­brie­la Gor­jon aus Guad­a­la­ja­ra (Me­xi­ko) in ihrem Vortrag auf.\n							Drucken \nArtikel teilen
URL:https://soli-komitee-wuppertal.mobi/event/jede-musik-ist-politik/
CATEGORIES:Veranstaltung/Vortrag
END:VEVENT
END:VCALENDAR