BEGIN:VCALENDAR
VERSION:2.0
PRODID:-//so_ko_wpt • intervention und selbstbeherrschung - ECPv4.6.14.1//NONSGML v1.0//EN
CALSCALE:GREGORIAN
METHOD:PUBLISH
X-WR-CALNAME:so_ko_wpt • intervention und selbstbeherrschung
X-ORIGINAL-URL:https://soli-komitee-wuppertal.mobi
X-WR-CALDESC:Veranstaltungen für so_ko_wpt • intervention und selbstbeherrschung
BEGIN:VEVENT
DTSTART;TZID=Europe/Amsterdam:20160407T200000
DTEND;TZID=Europe/Amsterdam:20160407T223000
DTSTAMP:20260419T163519
CREATED:20160404T103918Z
LAST-MODIFIED:20160404T104236Z
UID:10846-1460059200-1460068200@soli-komitee-wuppertal.mobi
SUMMARY:Kein Fußbreit türkischenFaschisten! Koordinierung
DESCRIPTION:Für den 10.April mobilisieren nationalistische und faschistische türkische Organisationen bundesweit in 13 Städten zu Demonstrationen. Eine der Städte\, in denen zu einer Demonstration mit dem zynischen Motto "Für Frieden und gegen den Terror des IS und der PKK" aufgerufen wird\, ist Wuppertal. Bei ähnlichen Kundgebungen kam es in den letzten Wochen immer wieder zu Übergriffen türkischer "Grauer Wölfe" gegen kurdische Menschen und Strukturen – zuletzt z.B. in Duisburg und in Aschaffenburg. \nWir wollen unsere kurdischen Freund*innen damit nicht alleine lassen und uns allen Versuchen\, den Krieg gegen die Kurd*innen auch in unsere Viertel zu tragen\, entgegenstellen. \nZu Absprachen unserer Gegenaktivitäten treffen wir uns am Donnerstag vor dem 10.4. Wir rufen alle antifaschistischen und antirassistischen Menschen dazu auf\, sich zu beteiligen!\n							Drucken \nArtikel teilen
URL:https://soli-komitee-wuppertal.mobi/event/kein-fussbreit-turkischen-faschisten-koordinierung/
CATEGORIES:Treffen/Tagung/Konferenz
END:VEVENT
END:VCALENDAR