BEGIN:VCALENDAR
VERSION:2.0
PRODID:-//so_ko_wpt • intervention und selbstbeherrschung - ECPv4.6.14.1//NONSGML v1.0//EN
CALSCALE:GREGORIAN
METHOD:PUBLISH
X-WR-CALNAME:so_ko_wpt • intervention und selbstbeherrschung
X-ORIGINAL-URL:https://soli-komitee-wuppertal.mobi
X-WR-CALDESC:Veranstaltungen für so_ko_wpt • intervention und selbstbeherrschung
BEGIN:VEVENT
DTSTART;TZID=Europe/Amsterdam:20150206T193000
DTEND;TZID=Europe/Amsterdam:20150206T213000
DTSTAMP:20260421T082655
CREATED:20150122T102708Z
LAST-MODIFIED:20150122T102708Z
UID:7199-1423251000-1423258200@soli-komitee-wuppertal.mobi
SUMMARY:kein mensch ist illegalTreffen Wuppertal
DESCRIPTION:An jedem ersten Freitag eines Monats trifft sich die Wuppertaler Gruppe von "kein mensch ist illegal"\, die seit Jahren versucht\, konkrete Solidarität für Geflüchtete aufzubauen und beispielsweise in ständigem Kontakt zum Brennpunkt Calais steht um für die dort Festsitzenden Hilfe zu organisieren.\n\n							Drucken \nArtikel teilen
URL:https://soli-komitee-wuppertal.mobi/event/kein-mensch-ist-illegal-treffen-wuppertal-2-2/
CATEGORIES:Treffen/Tagung/Konferenz
END:VEVENT
END:VCALENDAR