BEGIN:VCALENDAR
VERSION:2.0
PRODID:-//so_ko_wpt • intervention und selbstbeherrschung - ECPv4.6.14.1//NONSGML v1.0//EN
CALSCALE:GREGORIAN
METHOD:PUBLISH
X-WR-CALNAME:so_ko_wpt • intervention und selbstbeherrschung
X-ORIGINAL-URL:https://soli-komitee-wuppertal.mobi
X-WR-CALDESC:Veranstaltungen für so_ko_wpt • intervention und selbstbeherrschung
BEGIN:VEVENT
DTSTART;TZID=Europe/Amsterdam:20160528T210000
DTEND;TZID=Europe/Amsterdam:20160528T230000
DTSTAMP:20260423T112539
CREATED:20160504T173832Z
LAST-MODIFIED:20160504T173832Z
UID:11151-1464469200-1464476400@soli-komitee-wuppertal.mobi
SUMMARY:Konzert: Sobaky v KosmosiHunde des Weltalls
DESCRIPTION:Konzert im Rahmen der Wuppertaler Literatur Biennale: Sobaky v Kosmosi – Hunde des Weltalls \nSerhji Zhadan – Stimme; Vitaly Bronishevsky – Drums;  Stanislav Bronishevsky – Sound;  Andriy Pyvovarov – Bass; Yevhen Turchynov – Gitarre; Serhiy Kulayenko – Keyboard; Oleksandr Merenchuk – Trompete; Artem Dmytrychenkov – Trompete \nSerhij Zhadan ist nicht nur einer der wichtigsten literarischen Stimmen der Ukraine\, er zählt auch zu den bekanntesten Musi­kern des Landes. Seit 2008 arbeitet er als Frontmann und Sänger mit der Charkiver Ska­Band „Sobaky v kosmosi“ (Hunde im Weltall) zusammen. Zhadans Club­ und Festivalkonzerte zwi­schen Kiew und Charkiv haben längst Kultcharakter\, nicht zuletzt vor dem Hintergrund des Ukrainekrieges. \nAuf der Biennale sind Zhadan und seine Band in einem ihrer ers­ten Konzerte in Deutschland zu hören. Sie präsentieren ihr aktu­elles Projekt\, das durch eine Mixtur aus bisweilen politisch­anar­chischer Rocklyrik und treibendender Tanz­Rhythmik besticht. Die Musik speist sich aus dem jamaikanischen Ska und seinen kraftvollen Bläserriffs\, die mit Elementen osteuropäischer Polka und Punkrock fusioniert werden. Dazu rezitiert Zhadan seine Texte – eine kraftvolle Symbiose\, die auch jenseits ihres brisanten kulturellen Entstehungskontexts die Zuhörer begeistert.\n							Drucken \nArtikel teilen
URL:https://soli-komitee-wuppertal.mobi/event/konzert-sobaky-v-kosmosihunde-des-weltalls/
CATEGORIES:Konzert/Party
END:VEVENT
END:VCALENDAR