BEGIN:VCALENDAR
VERSION:2.0
PRODID:-//so_ko_wpt • intervention und selbstbeherrschung - ECPv4.6.14.1//NONSGML v1.0//EN
CALSCALE:GREGORIAN
METHOD:PUBLISH
X-WR-CALNAME:so_ko_wpt • intervention und selbstbeherrschung
X-ORIGINAL-URL:https://soli-komitee-wuppertal.mobi
X-WR-CALDESC:Veranstaltungen für so_ko_wpt • intervention und selbstbeherrschung
BEGIN:VEVENT
DTSTART;TZID=Europe/Amsterdam:20140526T193000
DTEND;TZID=Europe/Amsterdam:20140526T213000
DTSTAMP:20260419T165504
CREATED:20140507T202125Z
LAST-MODIFIED:20140507T202620Z
UID:4772-1401132600-1401139800@soli-komitee-wuppertal.mobi
SUMMARY:Literatur-Biennale WuppertalBollwerk Europa gegen Flüchtlinge
DESCRIPTION:"Was wollen sie hier bei uns?" - Bollwerk Europa gegen Afrikas Flüchtlinge. Ein Diskurs mit Dr. Moustapha Diallo\, Rupert Neudeck\, Anna Kuschnarowa und Gilles Reckinger\, Moderation: Dr. Manfred Loimeier. \nMigration\, Identität und Gedächtnis - Stichworte\, die im Hintergrund der Frage nach europäischer Verantwortung aufscheinen: Europa wird sich mehr als je zuvor mit Migrationsbewegungen\, die aus Afrika und aus Osteuropa in die Mitte des europäischen Subkontinents drängen\, auseinandersetzen müssen. Vorhersehbar ist\, dass unter dem Druck dieses Andrangs vor allem die mittel- und nordeuropäischen Nationen\, die Multikulturalität und Toleranz als wesentlichen Teil ihres Selbstverständnisses beanspruchen\, an ihre historische Verantwortung erinnert werden. Was sind die Gründe\, sich den großen Gefahren einer solchen Flucht auszusetzen? Wie reagieren die Staaten der EU? Was bedeuten ihnen Globalisierung und Menschenrechte? \nDie diesjährige "Literatur-Biennale" in Wuppertal widmet sich diesmal verschiedenen Facetten des Themas Europa. Darunter ist auch ein Schwerpunkt mit Veranstaltungen zum Themenaspekt "Flucht und Migration"\, den wir in unsere Veranstaltungsübersicht aufnehmen. Das vollständige Programm der Literatur-Biennale findet sich auf der Website der Reihe.\n							Drucken \nArtikel teilen
URL:https://soli-komitee-wuppertal.mobi/event/literatur-biennale-wuppertalbollwerk-europa-gegen-fluchtlinge/
CATEGORIES:Veranstaltung/Vortrag
END:VEVENT
END:VCALENDAR