BEGIN:VCALENDAR
VERSION:2.0
PRODID:-//so_ko_wpt • intervention und selbstbeherrschung - ECPv4.6.14.1//NONSGML v1.0//EN
CALSCALE:GREGORIAN
METHOD:PUBLISH
X-WR-CALNAME:so_ko_wpt • intervention und selbstbeherrschung
X-ORIGINAL-URL:https://soli-komitee-wuppertal.mobi
X-WR-CALDESC:Veranstaltungen für so_ko_wpt • intervention und selbstbeherrschung
BEGIN:VEVENT
DTSTART;TZID=Europe/Amsterdam:20150307T200000
DTEND;TZID=Europe/Amsterdam:20150307T230000
DTSTAMP:20260419T120810
CREATED:20150217T183046Z
LAST-MODIFIED:20150217T183415Z
UID:7544-1425758400-1425769200@soli-komitee-wuppertal.mobi
SUMMARY:Mehmet Akbaş – Konzert
DESCRIPTION:Mehmet Akbaş hat am 24.Januar kräftig mitgeholfen\, unsere "Winter in Kurdistan"-Benefizveranstaltung für Geflüchtete in Rojava und Shingal zum Erfolg zu machen. Mit seinem Auftritt begeisterte er das Publikum. Knapp sechs Wochen später ist er wieder im Tal und stattet dem ADA einen Besuch in voller Besetzung ab. \nDort tritt er im Rahmen des Programmschwerpunktes zu Kurdistan auf\, der einer von drei Themenblöcken zur Geschichte der Türkei und des Mittleren Ostens ist\, mit dem das ADA in diesem Jahr politisch und kulturell ein deutliches Zeichen setzt. Nach dem Schwerpunkt zu Kurdistan folgen noch Veranstaltungsreihen zum Genozid an den Armeniern vor einhundert Jahren und zu den türkischen Pogromen an den in der Türkei lebenden Griechen. \nZum Konzert: \nMehmet Akbaş & Band präsentieren SHARQI PROJECT / SONGS OF MIDDLE EAST. Das Projekt "SHARQ­I" ist eine Hommage an die Ursprünge der kurdischen Musik mit einer Neuinterpretation der verschiedenen Epochen. \nDer kurdische Sänger und Komponist Mehmet Akbaş hat für dieses Projekt\, abgesehen von seinem kurdischen Repertoire (in den kurdischen Sprachen: Kurmanci\, Zazaki\, Sorani und Kelhuri) wertvolle Stücke aus der assyrischen\, armenischen\, persischen\, arabischen\, hebräischen und türkischen Musik ausgesucht. Die Ineinanderverschmelzung dieser Melodien ergibt »Sharq­i«. Er stützt sich dabei auf die jahrhundertealte orientalische Musik und erschafft Zutritt in die Welt des Makam.\n							Drucken \nArtikel teilen
URL:https://soli-komitee-wuppertal.mobi/event/mehmet-akba-konzert/
LOCATION:Wiesenstraße 6\, Wuppertal
CATEGORIES:Konzert/Party
END:VEVENT
END:VCALENDAR