BEGIN:VCALENDAR
VERSION:2.0
PRODID:-//so_ko_wpt • intervention und selbstbeherrschung - ECPv4.6.14.1//NONSGML v1.0//EN
CALSCALE:GREGORIAN
METHOD:PUBLISH
X-WR-CALNAME:so_ko_wpt • intervention und selbstbeherrschung
X-ORIGINAL-URL:https://soli-komitee-wuppertal.mobi
X-WR-CALDESC:Veranstaltungen für so_ko_wpt • intervention und selbstbeherrschung
BEGIN:VEVENT
DTSTART;TZID=Europe/Amsterdam:20150215T190000
DTEND;TZID=Europe/Amsterdam:20150215T210000
DTSTAMP:20260419T175305
CREATED:20150209T120752Z
LAST-MODIFIED:20150209T120907Z
UID:7402-1424026800-1424034000@soli-komitee-wuppertal.mobi
SUMMARY:Ölbergkantine
DESCRIPTION:Auf dass es durch die Straßen Wuppertals halle: +++ VOLKSKÜCHENALARM +++ Wie jeden 3. Sonntag im Monat: Auf\, auf zur Ölberg-Kantine bei Mustafa im Café Stil Bruch. \nAus der Einladung: \nWir laden ein zum Tausch-Buffet auf Spendenbasis. Bringt gerne selbst etwas Zubereitetes mit\, wenn ihr wollt\, Hunger reicht aber auch schon für den Eintritt. \nWer möchte\, kann Mustafa aber gerne auch bei den großen Kreationen unterstützen und im Stil-Bruch kochen! Dazu laden wir besonders ein :) Wir geben euch das Geld für die Zutaten (wir haben 45€ aus der Spendenkasse der letzten Ölbergkantine übrig) und stellen euch die Küche zur Verfügung. Dafür zaubert ihr ein leckeres Gericht. Wer hätte eventuell Lust und Zeit? Gerne direkt bei Mustafa melden.\n							Drucken \nArtikel teilen
URL:https://soli-komitee-wuppertal.mobi/event/olbergkantine/
LOCATION:Marienstraße 58\, Wuppertal
CATEGORIES:Anderes
END:VEVENT
END:VCALENDAR