BEGIN:VCALENDAR
VERSION:2.0
PRODID:-//so_ko_wpt • intervention und selbstbeherrschung - ECPv4.6.14.1//NONSGML v1.0//EN
CALSCALE:GREGORIAN
METHOD:PUBLISH
X-WR-CALNAME:so_ko_wpt • intervention und selbstbeherrschung
X-ORIGINAL-URL:https://soli-komitee-wuppertal.mobi
X-WR-CALDESC:Veranstaltungen für so_ko_wpt • intervention und selbstbeherrschung
BEGIN:VEVENT
DTSTART;TZID=Europe/Amsterdam:20150310T193000
DTEND;TZID=Europe/Amsterdam:20150310T220000
DTSTAMP:20260419T163010
CREATED:20150217T150612Z
LAST-MODIFIED:20150310T123537Z
UID:7450-1426015800-1426024800@soli-komitee-wuppertal.mobi
SUMMARY:Politkneipe im AZThema: Info-VA 18.3. FfM
DESCRIPTION:Thema: Infoveranstaltung zur EZB-Eröffnung (Frankfurt 18.März) \nInfo Abend zum Aktionstag gegen die Eröffnung der EZB in Frankfurt am 18.3. \nUnsere lokalen Kämpfe ähneln häufig den in anderen Regionen geführten oder sind gar die gleichen Kämpfe an anderer Stelle. Wir glauben\, dass es Zeit ist\, sich gemeinsam mit vielen Menschen aus ganz Europa in Frankfurt zu treffen um den Herrschenden ihre zynische Party zur offiziellen Eröffnung der EZB zu versauen und ein deutliches Zeichen des Widerstandes in die Welt zu senden und neuen Schwung und Mut für unsere Kämpfe zu gewinnen! \nWir wollen mit euch die aktuelle Situation in Wuppertal besprechen und euch über die geplanten Aktionen rund um den 18. März in Frankfurt informieren. (Quelle) \nMehr Informationen: destroika.noblogs.org – blockupy.org/ \nJeden Dienstag gibts im Autonomen Zentrum Wuppertal einen politischen Input zum Bier mit anschließenden Gesprächen. Häufig werden vor der Diskussion auch Filme zum jeweiligen Thema gezeigt. Die Themenfelder sind vielfältig und drehen sich in der Regel um anarchistische und autonome Inhalte.\n							Drucken \nArtikel teilen
URL:https://soli-komitee-wuppertal.mobi/event/politkneipe-im-az-2/
CATEGORIES:Veranstaltung/Vortrag
END:VEVENT
END:VCALENDAR