BEGIN:VCALENDAR
VERSION:2.0
PRODID:-//so_ko_wpt • intervention und selbstbeherrschung - ECPv4.6.14.1//NONSGML v1.0//EN
CALSCALE:GREGORIAN
METHOD:PUBLISH
X-WR-CALNAME:so_ko_wpt • intervention und selbstbeherrschung
X-ORIGINAL-URL:https://soli-komitee-wuppertal.mobi
X-WR-CALDESC:Veranstaltungen für so_ko_wpt • intervention und selbstbeherrschung
BEGIN:VEVENT
DTSTART;TZID=Europe/Amsterdam:20150317T193000
DTEND;TZID=Europe/Amsterdam:20150317T220000
DTSTAMP:20260425T113050
CREATED:20150217T150744Z
LAST-MODIFIED:20150316T125018Z
UID:7453-1426620600-1426629600@soli-komitee-wuppertal.mobi
SUMMARY:Politkneipe im AZThema: Smash Ageism
DESCRIPTION:Thema: Smash Ageism! You are not your age! \nAus der Ankündigung bei Facebook: "In unserer nächsten Politkneipe geht es um ein aus einer anarchistischen Perspektive selten behandeltes aber sehr wichtiges und uns alle betreffendes Thema: Ageism. Ageism ist eine Ideologie die Menschen in Alters- Kategorien und Hierarchien zwängt & Menschen auf Grund des "zu niedrigen" oder "zu hohen" Lebensalters diskriminiert. \nFolgende Fragen dazu werden wir im Rahmen eines Vortrags behandeln: \nWas ist Ageism und wen betrifft es? \nWelche Auswirkungen haben Diskriminierung auf Grund des Alters und Altershierarchien? \nVon wem kann die Diskriminierung ausgehen? \nWelche Rechtfertigungen werden dafür oft angeführt und welche Widersprüche finden sich darin? \nUnd welche Ansätze gibt es sich von Ageism zu emanzipieren und den Opfern von Ageism zu helfen? \nAnschließend wird es eine offene Diskussionsrunde geben in der wir unsere Erfahrungen mit dem Thema und über die praktische Umsetzung der gewonnen Erkenntnisse austauschen können." \nJeden Dienstag gibts im Autonomen Zentrum Wuppertal einen politischen Input zum Bier mit anschließenden Gesprächen. Häufig werden vor der Diskussion auch Filme zum jeweiligen Thema gezeigt. Die Themenfelder sind vielfältig und drehen sich in der Regel um anarchistische und autonome Inhalte.\n							Drucken \nArtikel teilen
URL:https://soli-komitee-wuppertal.mobi/event/politkneipe-im-az-3/
CATEGORIES:Veranstaltung/Vortrag
END:VEVENT
END:VCALENDAR