BEGIN:VCALENDAR
VERSION:2.0
PRODID:-//so_ko_wpt • intervention und selbstbeherrschung - ECPv4.6.14.1//NONSGML v1.0//EN
CALSCALE:GREGORIAN
METHOD:PUBLISH
X-WR-CALNAME:so_ko_wpt • intervention und selbstbeherrschung
X-ORIGINAL-URL:https://soli-komitee-wuppertal.mobi
X-WR-CALDESC:Veranstaltungen für so_ko_wpt • intervention und selbstbeherrschung
BEGIN:VEVENT
DTSTART;TZID=Europe/Amsterdam:20150324T193000
DTEND;TZID=Europe/Amsterdam:20150324T220000
DTSTAMP:20260419T151159
CREATED:20150217T150947Z
LAST-MODIFIED:20150310T124025Z
UID:7456-1427225400-1427234400@soli-komitee-wuppertal.mobi
SUMMARY:Politkneipe im AZThema: Hambacher Forst
DESCRIPTION:Thema: Hambacher Forst \nAchtet für weitere Infos zum wöchentlichen Thema auf kurzfristige Ankündigungen in den Kanälen der Eisbrecher bei Twitter oder Facebook. \nJeden Dienstag gibts im Autonomen Zentrum Wuppertal einen politischen Input zum Bier mit anschließenden Gesprächen. Häufig werden vor der Diskussion auch Filme zum jeweiligen Thema gezeigt. Die Themenfelder sind vielfältig und drehen sich in der Regel um anarchistische und autonome Inhalte.\n							Drucken \nArtikel teilen
URL:https://soli-komitee-wuppertal.mobi/event/politkneipe-im-az-4/
CATEGORIES:Veranstaltung/Vortrag
END:VEVENT
END:VCALENDAR