BEGIN:VCALENDAR
VERSION:2.0
PRODID:-//so_ko_wpt • intervention und selbstbeherrschung - ECPv4.6.14.1//NONSGML v1.0//EN
CALSCALE:GREGORIAN
METHOD:PUBLISH
X-WR-CALNAME:so_ko_wpt • intervention und selbstbeherrschung
X-ORIGINAL-URL:https://soli-komitee-wuppertal.mobi
X-WR-CALDESC:Veranstaltungen für so_ko_wpt • intervention und selbstbeherrschung
BEGIN:VEVENT
DTSTART;TZID=Europe/Amsterdam:20150505T190000
DTEND;TZID=Europe/Amsterdam:20150505T190000
DTSTAMP:20260424T015129
CREATED:20150426T114852Z
LAST-MODIFIED:20150507T113610Z
UID:8074-1430852400-1430852400@soli-komitee-wuppertal.mobi
SUMMARY:Politkneipe
DESCRIPTION:Achtung: Derzeit wird über das Stattfinden der AZ-Kneipen kurzfristig entschieden. Achtet auf entsprechende Ankündigungen! --- abgesagt!\n \nJeden Dienstagabend: Eine politische Kneipe im Autonomen Zentrum mit Inputs\, Videos und Diskussion zu grundsätzlichen oder aktuellen Themen linker Politik. Ankündigungen des jeweiligen Themas erfolgen zumeist recht kurzfristig und werden hier bzw. über die Kanäle der Eisbrecher Wuppertal (auch bei Facebook) wenige Tage vor der Veranstaltung angekündigt.\n\n							Drucken \nArtikel teilen
URL:https://soli-komitee-wuppertal.mobi/event/politkneipe/
CATEGORIES:Veranstaltung/Vortrag
END:VEVENT
END:VCALENDAR