BEGIN:VCALENDAR
VERSION:2.0
PRODID:-//so_ko_wpt • intervention und selbstbeherrschung - ECPv4.6.14.1//NONSGML v1.0//EN
CALSCALE:GREGORIAN
METHOD:PUBLISH
X-WR-CALNAME:so_ko_wpt • intervention und selbstbeherrschung
X-ORIGINAL-URL:https://soli-komitee-wuppertal.mobi
X-WR-CALDESC:Veranstaltungen für so_ko_wpt • intervention und selbstbeherrschung
BEGIN:VEVENT
DTSTART;TZID=Europe/Amsterdam:20150225T190000
DTEND;TZID=Europe/Amsterdam:20150225T220000
DTSTAMP:20260419T150403
CREATED:20150220T122718Z
LAST-MODIFIED:20150220T123407Z
UID:7580-1424890800-1424901600@soli-komitee-wuppertal.mobi
SUMMARY:Primark verhindern!Offenes Treffen
DESCRIPTION:Primark Verhindern! – Centro Sociale Durchsetzen! Einladung zu einem offenenTreffen \nDer Verkauf des innerstädtischen Grundstücks am Döppersberg an den Investor Signature Capital\, der beabsichtigt\, dort eine Filiale der Ramsch-Dealers Primark anzusiedeln\, ist der letzte Konfliktherd um die Neugestaltung der Innenstadt Elberfelds in Wuppertal. Die Heftigkeit\, mit der die Auseinandersetzung wechselseitig geführt wird\, ist nicht zu verstehen\, ohne die Geschichte des Döppersberg-Umbaus und ohne die anderen städtebaulichen und stadtpolitischen Katastrophenentscheidungen der letzten Jahre zu kennen. Dazu gehört auch der Umgang mit leerstehenden Gebäuden\, die von Finanzgesellschaften ihrem eigentlichen Zweck – dem Wohnen – entzogen und zu reinen Kapitalanlagen gemacht wurden. \nDie Liste der stadtpolitischen Kämpfe in Wuppertal ist lang und reicht weit zurück. Die geplante Ansiedlung von Primark könnte sich nun – nach dem Kampf gegen die Mehrkosten am Döppersberg – als Kulminationspunkt der Auseinandersetzungen erweisen: Die Opposition gegen Primark reicht von eher bürgerlichen Organisationen bis zu linksradikalen Gruppen. Nachdem das Bündnis um attac und BaSo bereits zweimal zur Beratung beim Frühstück eingeladen hat\, bieten nun die "Unterstützer*innen der Hausbesetzung Marienstraße 41" und die Eisbrecher Wuppertal ein Offenes Treffen zum Thema an. \nWeitere Informationen bei den Eisbrechern.\n							Drucken \nArtikel teilen
URL:https://soli-komitee-wuppertal.mobi/event/primark-verhindernoffenes-treffen/
CATEGORIES:Treffen/Tagung/Konferenz
END:VEVENT
END:VCALENDAR