BEGIN:VCALENDAR
VERSION:2.0
PRODID:-//so_ko_wpt • intervention und selbstbeherrschung - ECPv4.6.14.1//NONSGML v1.0//EN
CALSCALE:GREGORIAN
METHOD:PUBLISH
X-WR-CALNAME:so_ko_wpt • intervention und selbstbeherrschung
X-ORIGINAL-URL:https://soli-komitee-wuppertal.mobi
X-WR-CALDESC:Veranstaltungen für so_ko_wpt • intervention und selbstbeherrschung
BEGIN:VEVENT
DTSTART;TZID=Europe/Amsterdam:20140617T193000
DTEND;TZID=Europe/Amsterdam:20140617T213000
DTSTAMP:20260420T080608
CREATED:20140515T122951Z
LAST-MODIFIED:20140608T164715Z
UID:4858-1403033400-1403040600@soli-komitee-wuppertal.mobi
SUMMARY:Info- und Protest-VA zu TTIP
DESCRIPTION:TTIP – Konzerne vergrößern Macht und Profit – Eine Informations- und Protestveranstaltung zur Transatlantischen Handels- und Investitionspartnerschaft TTIP \nDas Hauptziel von TTIP (auch Freihandelsabkommen genannt) besteht darin\, sogenannte »regulatorische Hindernisse« zu beseitigen\, wenn diese mögliche Gewinne einschränken. Bei diesen »Hindernissen« handelt es sich um Arbeitsschutzrechte\, Umwelt- und Verbraucherschutz sowie neue Regeln zur Bankensicherheit oder zum Datenschutz – also um Regeln\, die für uns existenziell wichtig sind. Besonders bedrohlich ist der Plan\, private Wirtschaftsgerichte einzurichten\, bei denen Konzerne Schadensersatz-Prozesse gegen Regierungen führen können\, wenn sie ihre Gewinne durch neue Gesetze geschmälert sehen. Dort stehen die klagenden Konzerne auf gleicher Augenhöhe mit den Regierungen. Die EU und die USA haben Lateinamerika\, Asien und vielen Regionen der Welt solche Freihandelsverträge aufoktroyiert; hier gibt es vielfältige Erfahrungen. \nNach den gleichen Mustern klagen Vattenfall gegen die Bundesregierung wegen des Atomausstiegs\, der kanadische Konzern Pacific Rim Mining Corporation gegen El Salvador zur Durchsetzung einer Goldmine und verlorengegangener Gewinne aufgrund eines Bergbaumoratoriums sowie europäische und amerikanische Konzerne gegen die Anhebung des Mindestlohns in Ägypten. Soziale Bewegungen in aller Welt wehren sich gegen diese Formierung. Welche Strategie steht hinter den Verträgen\, welche Erfahrungen wurden bisher schon im globalen Süden gemacht und welche Forderungen werden gestellt? Auf der Veranstaltung wird zum einen informiert. Zum anderen soll gemeinsam überlegt werden\, wie wir den Widerstand verstärken können. \nEine Veranstaltung von attac Wuppertal | Informationsbüro Nicaragua | kein mensch ist illegal\, Wuppertal | Stiftung W.\, Wuppertal\n							Drucken \nArtikel teilen
URL:https://soli-komitee-wuppertal.mobi/event/protestveranstaltung-zu-ttip/
CATEGORIES:Veranstaltung/Vortrag
END:VEVENT
END:VCALENDAR