BEGIN:VCALENDAR
VERSION:2.0
PRODID:-//so_ko_wpt • intervention und selbstbeherrschung - ECPv4.6.14.1//NONSGML v1.0//EN
CALSCALE:GREGORIAN
METHOD:PUBLISH
X-WR-CALNAME:so_ko_wpt • intervention und selbstbeherrschung
X-ORIGINAL-URL:https://soli-komitee-wuppertal.mobi
X-WR-CALDESC:Veranstaltungen für so_ko_wpt • intervention und selbstbeherrschung
BEGIN:VEVENT
DTSTART;TZID=Europe/Amsterdam:20170119T103000
DTEND;TZID=Europe/Amsterdam:20170119T140000
DTSTAMP:20260425T112926
CREATED:20170124T132851Z
LAST-MODIFIED:20170124T132851Z
UID:12076-1484821800-1484834400@soli-komitee-wuppertal.mobi
SUMMARY:Prozess gegen Latife
DESCRIPTION:Der 53. Prozesstag am OLG Düsseldorf im §129b-Verfahren gegen unsere Genossin.\n							Drucken \nArtikel teilen
URL:https://soli-komitee-wuppertal.mobi/event/prozess-gegen-latife/
LOCATION:Cecielienallee 3\, Düsseldorf
CATEGORIES:Anderes
END:VEVENT
END:VCALENDAR