BEGIN:VCALENDAR
VERSION:2.0
PRODID:-//so_ko_wpt • intervention und selbstbeherrschung - ECPv4.6.14.1//NONSGML v1.0//EN
CALSCALE:GREGORIAN
METHOD:PUBLISH
X-WR-CALNAME:so_ko_wpt • intervention und selbstbeherrschung
X-ORIGINAL-URL:https://soli-komitee-wuppertal.mobi
X-WR-CALDESC:Veranstaltungen für so_ko_wpt • intervention und selbstbeherrschung
BEGIN:VEVENT
DTSTART;TZID=Europe/Amsterdam:20140611T103000
DTEND;TZID=Europe/Amsterdam:20140611T140000
DTSTAMP:20260419T135415
CREATED:20140507T181825Z
LAST-MODIFIED:20140507T182133Z
UID:4752-1402482600-1402495200@soli-komitee-wuppertal.mobi
SUMMARY:Prozessbeginn gegen die FordArbeiterInnen aus Genk in Köln
DESCRIPTION:Kundgebung  und anschließend (12 Uhr) in Saal 2 des Kölner Amtsgerichts: Prozess gegen die belgischen Ford-Kollegen \nDas Amtsgericht Köln hat den ersten Prozess gegen die belgischen Ford-Kollegen für den 11. Juni angesetzt. Vom "Solikreis 7.November" wird dazu aufgerufen\, gegen die Kriminalisierung von Arbeitskämpfen zu kämpfen\, den Prozess zu besuchen und sich auf der Straße mit den KollegInnen zu solidarisieren. \nHier der Aufruf zu den Veranstaltungen\, Aktionen zum Prozessbeginn: \nHeute Genk – morgen Köln? \nSchluss mit der Strafverfolgung unserer KollegInnen! ?Für internationale Klassensolidarität statt Standortlogik! \n„Wir wollten unsere Kölner Kollegen warnen. Jeden Tag kann es passieren\, dass die da oben weitere Stellenstreichungen und ganze Werksschließungen verabschieden.“ (Zitat eines Genker Kollegen im Express\, 8.11.12) \nAm 7. November protestierten 250 Beschäftigte und Gewerkschafter aus dem belgischen Genk vor der Ford-Europazentrale in Köln gegen die Schließung ihres Werks und den Verlust von insgesamt 10.000 Jobs. Innerhalb kurzer Zeit sahen sie sich einem riesigen Polizeiaufgebot gegenüber\, wurden stundenlang eingekesselt und teilweise festgenommen.\nDanach gab es Ermittlungsverfahren gegen 24 von ihnen. Sofort starteten Betroffene und UnterstützerInnen eine Solidaritätskampagne und es kam zu einer breiten Unterstützungswelle aus ganz Deutschland\, aus Belgien\, Spanien und der Schweiz. \nWährend der scharfe Vorwurf der “Rädelsführerschaft” und des “besonders schweren Landfriedensbruchs” gegen einen solidarischen Kollegen aus Köln daraufhin zurückgenommen und 11 Verfahren eingestellt wurden\, erhielten 12 belgische Kollegen Strafbefehle über Geldstrafen. Der Strafbefehl gegen einen “Hauptverdächtigen” sieht darüber hinaus zehn Monate Haft auf Bewährung wegen angeblicher gefährlicher Körperverletzung vor – gemäß der bekannten staatsanwaltschaftlichen Taktik\, einzelne Betroffene als “Gewalttäter” zu isolieren. Das hat keinen anderen Zweck\, als die kämpferischen Kräfte zu kriminalisieren und einen Keil zwischen die belgischen und deutschen Ford-Kollegen zu treiben. \nAlle KollegInnen haben Widersprüche gegen ihre Strafbefehle eingelegt. Zu den Gerichtsverfahren\, die am 11. Juni am Amtsgericht Köln starten\, rufen wir zum Protest und zur Prozessbeobachtung auf! \nDurch die Ermittlungsverfahren wird jeder\, der gegen die Vernichtung seines Arbeitsplatzes kämpft\, mit strafrechtlicher Verfolgung bedroht (zumal der deutsche Staat per Gesetz ohnehin nur Streiks für Tariffragen erlaubt). \nDas betrifft insbesondere die KollegInnen von Ford Köln\, die zur Zeit nicht wissen\, ob sie ab 2017 noch einen Job haben. Ford-Geschäftsführer Mattes hat angedroht\, die Produktion des Ford Fiesta ins Ausland zu verlagern. Damit droht das Aus für mindestens 4000 Jobs in Köln. Dient die Strafverfolgung der belgischen ArbeiterInnen vielleicht auch dazu\, die Kölner Kollegen vorsorglich einzuschüchtern? \nFord-Chef Mattes sagte im Kölner Stadt-Anzeiger zur Zukunft von Köln: “Wir haben auf der jüngsten Betriebsversammlung die Belegschaft darüber informiert\, dass Gespräche mit dem Betriebsrat über die Fertigung der kommenden Fiesta-Generation in Köln notwendig sind. Dabei geht es darum\, eine Perspektive zu erarbeiten\, den Fiesta auch künftig wettbewerbsfähig und profitabel am Standort Köln fertigen zu können.” (Kölner Stadt-Anzeiger vom 17.12.13) \nWir wollen an dieser Stelle daran erinnern\, wie die Schließung von Ford Genk eingeleitet wurde: Dort hatte Ford im Gegenzug für eine Standortgarantie bis 2016 einen Lohnverzicht der Beschäftigten von 12 % durchgedrückt\, um dann vor gut einem Jahr die Schließung bis Ende 2014 zu verkünden. Wir lernen wieder einmal\, dass Lohnverzicht keine Arbeitsplätze sichert. Und dann wird vom Staat auch noch draufgehauen\, wenn die KollegInnen dagegen kämpfen!\nDeshalb protestieren wir auf der Straße und vor dem Gerichtssaal gegen Jobkahlschlag und gegen die Kriminalisierung von Arbeitskämpfen. \nWir sagen:\nDie wahren Verbrecher sind diejenigen\, die Arbeitsplätze vernichten. Unsere Kollegen in Genk\, Köln und sonstwo haben das Recht\, dagegen zu kämpfen\, wie sie es für richtig halten. Wir lassen uns nicht gefallen\, dass Polizei und Staatsanwaltschaft als Handlanger der Konzerne agieren und Arbeitskämpfe kriminalisiert werden. \nSolikreis 7. November\n							Drucken \nArtikel teilen
URL:https://soli-komitee-wuppertal.mobi/event/prozessbeginn-gegen-die-ford-arbeiterinnen-a-genk-in-koln/
LOCATION:Luxemburger Straße 101\, Köln
CATEGORIES:Demo/Kundgebung
END:VEVENT
END:VCALENDAR