BEGIN:VCALENDAR
VERSION:2.0
PRODID:-//so_ko_wpt • intervention und selbstbeherrschung - ECPv4.6.14.1//NONSGML v1.0//EN
CALSCALE:GREGORIAN
METHOD:PUBLISH
X-WR-CALNAME:so_ko_wpt • intervention und selbstbeherrschung
X-ORIGINAL-URL:https://soli-komitee-wuppertal.mobi
X-WR-CALDESC:Veranstaltungen für so_ko_wpt • intervention und selbstbeherrschung
BEGIN:VEVENT
DTSTART;TZID=Europe/Amsterdam:20150307T123000
DTEND;TZID=Europe/Amsterdam:20150307T170000
DTSTAMP:20260419T135505
CREATED:20150217T173955Z
LAST-MODIFIED:20150304T170642Z
UID:7535-1425731400-1425747600@soli-komitee-wuppertal.mobi
SUMMARY:Nazipack stoppen!Refugees welcome 2 Wtal! 
DESCRIPTION:Die Wuppertaler Nazis der Pseudopartei "Die Rechte" versuchen verzweifelt\, die Eröffnung eines kleinen Übergangsheimes für Geflüchtete in Wuppertal-Vohwinkel zu skandalisieren. Zu diesem Zweck unternahmen sie bereits im Februar einen Versuch\, in der Nähe des Hauses in der Edith-Stein Straße eine Kundgebung abzuhalten. Außer ekelhafter Hatecore-Mucke und kaum verständlichem Gebelle über die aus Dortmund angekarrten Lautsprecher war jedoch nicht viel. Eine Gegenkundgebung mit über 200 Menschen stand derweil schützend vor dem Haus\, das sich zu diesem Zeitpunkt noch in der Bauphase befand. \nAm 7.März wollen die Nazis wiederkommen. Die Geflüchteten sollen dann bereits eingezogen sein. Umso wichtiger ist es\, die erneute rassistische Provokation möglichst bereits im Keim zu ersticken. Wie das am besten gehen kann\, darüber berät u.a. das Wuppertaler Bündnis gegen Nazis am 05.03. \nMobilisierung: Treffpunkt am 7.3. um 12:30 Uhr auf der Kaiserstraße/Ecke Gräfrather Straße. \n\n							Drucken \nArtikel teilen
URL:https://soli-komitee-wuppertal.mobi/event/refugees-welcome-to-wtal-nazipack-stoppen/
LOCATION:Kaiserplatz\, Wuppertal
CATEGORIES:Demo/Kundgebung
END:VEVENT
END:VCALENDAR