BEGIN:VCALENDAR
VERSION:2.0
PRODID:-//so_ko_wpt • intervention und selbstbeherrschung - ECPv4.6.14.1//NONSGML v1.0//EN
CALSCALE:GREGORIAN
METHOD:PUBLISH
X-WR-CALNAME:so_ko_wpt • intervention und selbstbeherrschung
X-ORIGINAL-URL:https://soli-komitee-wuppertal.mobi
X-WR-CALDESC:Veranstaltungen für so_ko_wpt • intervention und selbstbeherrschung
BEGIN:VEVENT
DTSTART;TZID=Europe/Amsterdam:20150630T190000
DTEND;TZID=Europe/Amsterdam:20150630T220000
DTSTAMP:20260423T223647
CREATED:20150526T152028Z
LAST-MODIFIED:20150629T152005Z
UID:8366-1435690800-1435701600@soli-komitee-wuppertal.mobi
SUMMARY:Schwarzer Tresen WuppertalDas ELEKTROPHOR
DESCRIPTION:Diesmal: Der neue Text des "Unsichtbaren Komitees". \nDas ELEKTROPHOR ist eine dubiose Veranstaltung des so_ko_wpt im Rahmen des "Schwarzen Tresens Wuppertal". Das ELEKTROPHOR beschäftigt sich mit "Subversion und Subkultur" und findet viermal im Jahr (jeweils an einem fünften Dienstag) statt. \nNeben dem Input in Form von Vortrag\, Text und/oder Visuellem\, gibt es immer die Gelegenheit zur Diskussion. Anschließend: Soundtracks zu den Kämpfen. \nNach der Kooperation mit der Dienstag-Politkneipe im AZ Wuppertal wird die Reihe nun mit dem "Schwarzen Tresen Wuppertal" an wechselnden Orten fortgeführt. \nIm Juni beschäftigt sich das ELEKTROPHOR mit dem neuen Text des "Unsichtbaren Komitees" "An unsere Freunde"\, der im April 2015 auch auf deutsch erschienen ist. Weitere Informationen folgen\, eine Veranstaltung bei Facebook gibt es bereits. \n[subkultur] Der Begriff der Subkultur ist ein seit den 1940er Jahren in der Soziologie verwendeter Terminus\, mit dem eine bestimmte Untergruppe der sozialen Akteure einer Kultur beschrieben wird\, die sich im Hinblick auf zentrale Normen deutlich von der Kultur der Herrschenden abgrenzen. \n[subversion] Der Begriff der Subversion (lat. subversor „Umstürzer“) bezieht er sich auf Vorgänge\, Bestrebungen oder Darstellungen\, welche die bestehende soziale Ordnung (Autoritäten\, gesellschaftliche Zugehörigkeiten und Hierarchien\, Ausbeutung von Gruppen\, Machtkonzentrationen usw.) verändern wollen. \n[elektrophor] Ein Elektrophor besteht aus zwei Teilen: einer Metallplatte mit isoliertem Griff\, und einem so genannten „Kuchen“\, welcher elektrisch nicht leitend ist. Der rückseitig geerdete Kuchen wird mit einem (Katzen-)Fell gerieben. Dabei entsteht auf dem Kuchen Reibungselektrizität in Form überschüssiger Ladungen. Setzt man den elektrisch neutralen Metallteller auf die Platte\, so bewirkt die Influenz des elektrischen Feldes der Kuchenladungen eine Verschiebung der Ladungsträger im Metallteller.\n							Drucken \nArtikel teilen
URL:https://soli-komitee-wuppertal.mobi/event/schwarzer-tresen-wuppertal-das-elektrophor/
LOCATION:Marienstraße 58\, Wuppertal
CATEGORIES:Veranstaltung/Vortrag
END:VEVENT
END:VCALENDAR