BEGIN:VCALENDAR
VERSION:2.0
PRODID:-//so_ko_wpt • intervention und selbstbeherrschung - ECPv4.6.14.1//NONSGML v1.0//EN
CALSCALE:GREGORIAN
METHOD:PUBLISH
X-WR-CALNAME:so_ko_wpt • intervention und selbstbeherrschung
X-ORIGINAL-URL:https://soli-komitee-wuppertal.mobi
X-WR-CALDESC:Veranstaltungen für so_ko_wpt • intervention und selbstbeherrschung
BEGIN:VEVENT
DTSTART;TZID=Europe/Amsterdam:20160405T193000
DTEND;TZID=Europe/Amsterdam:20160405T220000
DTSTAMP:20260423T095553
CREATED:20160404T095707Z
LAST-MODIFIED:20160404T095707Z
UID:10840-1459884600-1459893600@soli-komitee-wuppertal.mobi
SUMMARY:Schwarzer Tresen WuppertalWohnraum für alle
DESCRIPTION:Thema: Die Stadt gehört allen\, die in ihr leben! Wohnraum für alle! \nJede*r kennt die Debatten\, in allen großen Städten werden vor allem in Szenevierteln die Mieten immer teurer und der Stadtteil wird immer mehr “aufgewertet”\, um ihn attraktiver aussehen zu lassen. Es ist kaum noch möglich bezahlbare Wohnungen zu finden da günstiger Wohnraum\, luxussanierten Wohungen weichen muss. Was für viele noch überraschend sein dürfte ist\, dass das Phänomen sogar in Wuppertal anzutreffen ist z.B in dem als (links-) alternativ bekanntem Viertel Ölberg\, wo immer mehr Wohnungen und auch ganze Häuser luxussaniert werden. Ein anderes Beispiel ist der Arrenberg bei dem es zu massiven Versuchen kommt Luxus-Eigentumswohnungen zu installieren\, was bereits zu Mietsteigerungen geführt hat. \nDer "Schwarze Tresen Wuppertal" bietet (un-) regelmäßig dienstags politische Vorträge\, Filme und Diskussionen an wechselnden Orten der Stadt an. Das Team der Initiator*innen wählt die Themen des "Schwarzen Tresens" meist recht kurzfristig aus. Achtet deshalb auf die kurzfristigen Ankündigungen – soweit möglich hier – oder bei Facebook. \n Anregungen\, Kritik\, Lob oder auch Ideen oder Wünsche für Vortragsthemen\, Projekte etc. können jederzeit eingebracht werden. Nachricht an die Initiator*innen über die Facebook-Seite oder per E-Mail an schwarzertresen.wtal [at] gmx.de\n							Drucken \nArtikel teilen
URL:https://soli-komitee-wuppertal.mobi/event/schwarzer-tresen-wuppertal-wohnraum-fur-ale/
CATEGORIES:Veranstaltung/Vortrag
END:VEVENT
END:VCALENDAR