BEGIN:VCALENDAR
VERSION:2.0
PRODID:-//so_ko_wpt • intervention und selbstbeherrschung - ECPv4.6.14.1//NONSGML v1.0//EN
CALSCALE:GREGORIAN
METHOD:PUBLISH
X-WR-CALNAME:so_ko_wpt • intervention und selbstbeherrschung
X-ORIGINAL-URL:https://soli-komitee-wuppertal.mobi
X-WR-CALDESC:Veranstaltungen für so_ko_wpt • intervention und selbstbeherrschung
BEGIN:VEVENT
DTSTART;TZID=Europe/Amsterdam:20140613T190000
DTEND;TZID=Europe/Amsterdam:20140613T220000
DTSTAMP:20260423T095129
CREATED:20140513T133713Z
LAST-MODIFIED:20140513T133713Z
UID:4848-1402686000-1402696800@soli-komitee-wuppertal.mobi
SUMMARY:so_ko_wpt: Juni-Plenum
DESCRIPTION:Die monatlichen Treffen des soli-komitees wuppertal stehen allen offen\, die mit uns Themenfelder verknüpfen und vielfältigen Widerstand thematisch und konkret verschränken wollen. Nach dem Plenum kann das zuvor Beredete bei nem kühlen Getränk während der legendären Freitagskneipe im AZ dann noch weiter vertieft werden. \n* Ihr sucht den so_ko-Raum im AZ ???\nEr befindet sich in der zweiten Etage\, den Gang durch zweimal nach links (sic!) abbiegen\, schräg gegenüber findet ihr uns. (...issn Schild anner Tür...) \n* Ihr wollt vorbeikommen und uns auf ein eigenes Thema ansprechen\, eine Zusammenarbeit vorschlagen\, gemeinsam für etwas mobilisieren? Macht das! Es wäre dann sehr nett\, wenn ihr uns vorab informieren könntet\, damit wir euer Thema auf die Tagesordnung (Yup! Sowas haben wir tatsächlich!) setzen können. Schreibt uns einfach eine e-Mail an info [at] soli-komitee-wuppertal.mobi \n							Drucken \nArtikel teilen
URL:https://soli-komitee-wuppertal.mobi/event/so_ko_wpt-juni-plenum/
CATEGORIES:Treffen/Tagung/Konferenz
END:VEVENT
END:VCALENDAR