BEGIN:VCALENDAR
VERSION:2.0
PRODID:-//so_ko_wpt • intervention und selbstbeherrschung - ECPv4.6.14.1//NONSGML v1.0//EN
CALSCALE:GREGORIAN
METHOD:PUBLISH
X-WR-CALNAME:so_ko_wpt • intervention und selbstbeherrschung
X-ORIGINAL-URL:https://soli-komitee-wuppertal.mobi
X-WR-CALDESC:Veranstaltungen für so_ko_wpt • intervention und selbstbeherrschung
BEGIN:VEVENT
DTSTART;TZID=Europe/Amsterdam:20180606T193000
DTEND;TZID=Europe/Amsterdam:20180606T223000
DTSTAMP:20260419T193926
CREATED:20180509T121125Z
LAST-MODIFIED:20180509T121218Z
UID:16359-1528313400-1528324200@soli-komitee-wuppertal.mobi
SUMMARY:Solingen 93: Lev - VS und Neonazismus
DESCRIPTION:„Mobi-/ Infovortrag: Eine schrecklich nette Familie? Verfassungsschutz und Neonazismus“ \nDem Namen nach soll der Inlandsgeheimdienst die Verfassung schützen. Der Verfassungsschutz bezeichnet sich selbst als „Frühwarnsystem“\, das unter anderem der Bekämpfung des „Rechtsextremismus“ dient. \nIn Wirklichkeit ist die Lage komplexer und das Verhältnis der Verfassungsschutzbehörden zu den Neonazi-Szenen zweifelhaft. Insbesondere nach der Selbstenttarnung des NSU\, dessen Handeln von vielen als Resultat des Versagens des Verfassungsschutzes gedeutet wird\, ist die Tätigkeit vieler Neonazis als V-Leute bekannt geworden.\nJüngst wurde öffentlich\, dass auch der Deutschland-Chef von „Blood & Honour“ für eine Verfassungsschutzbehörde arbeitete. Das Bild\, das in den letzten Jahren entstanden ist\, zeigt einen Neonazismus\, der bis in die Führungsetagen seiner Organisationen von staatlich bezahlten V-Leuten durchsetzt war. \nDer Vortrag zeigt anhand von Beispielen auf\, welche Auswirkungen diese Praxis des Verfassungsschutzes hatte und möchte mit den letzten eventuell vorhandenen Illusionen über den Nutzen des Inlandsgeheimdienstes aufräumen. \nEine Veranstaltung der Antifaschistischen Aktion LEVerkusen - [AALEV] in Kooperation mit dem Antirassistischen Bildungsforum Rheinland. Die Veranstaltung findet im Rahmen der Kampagne „solingen 1993 – niemals vergessen – unutturmayacagiz!“ zum 25. Jahrestag des Brandanschlages von Solingen statt. \nWeitere Informationen unter: www.aalev.info & www.solingen1993.info\n							Drucken \nArtikel teilen
URL:https://soli-komitee-wuppertal.mobi/event/solingen-93-lev-verfassungsschutz-und-neonazismus/
LOCATION:Kolberger Straße 95 a\, Leverkusen
CATEGORIES:Veranstaltung/Vortrag
END:VEVENT
END:VCALENDAR