BEGIN:VCALENDAR
VERSION:2.0
PRODID:-//so_ko_wpt • intervention und selbstbeherrschung - ECPv4.6.14.1//NONSGML v1.0//EN
CALSCALE:GREGORIAN
METHOD:PUBLISH
X-WR-CALNAME:so_ko_wpt • intervention und selbstbeherrschung
X-ORIGINAL-URL:https://soli-komitee-wuppertal.mobi
X-WR-CALDESC:Veranstaltungen für so_ko_wpt • intervention und selbstbeherrschung
BEGIN:VEVENT
DTSTART;TZID=Europe/Amsterdam:20150528T180000
DTEND;TZID=Europe/Amsterdam:20150528T220000
DTSTAMP:20260423T203520
CREATED:20150526T153450Z
LAST-MODIFIED:20150526T153450Z
UID:8370-1432836000-1432850400@soli-komitee-wuppertal.mobi
SUMMARY:Sperrmüllfest aufm Ölberg
DESCRIPTION:Es ist wieder soweit: Das erste Sperrmüllfest bei (hoffentlich!) sommerlichen Temperaturen. Beim Sperrmüllfest auf dem Otto-Böhne Platz geht es wie immer darum\, dass der Sperrmüll frei bleibt\, d.h. dass Tausch\, Mitnahme und Verwendung selbstverständlich nicht durch das Ordnungsamt beschränkt werden können. Um den "freien Warenfluss" im Viertel zu gewährleisten\, treffen sich deshalb zu jedem Sperrmülltermin gut gelaunte Menschen\, um dank der VoKü gemeinsam zu essen\, zu quatschen und natürlich um ihre Beute vorzuzeigen\, zu begutachten und auszutauschen.\n							Drucken \nArtikel teilen
URL:https://soli-komitee-wuppertal.mobi/event/sperrmullfest-aufm-olberg-3/
CATEGORIES:Anderes
END:VEVENT
END:VCALENDAR