BEGIN:VCALENDAR
VERSION:2.0
PRODID:-//so_ko_wpt • intervention und selbstbeherrschung - ECPv4.6.14.1//NONSGML v1.0//EN
CALSCALE:GREGORIAN
METHOD:PUBLISH
X-WR-CALNAME:so_ko_wpt • intervention und selbstbeherrschung
X-ORIGINAL-URL:https://soli-komitee-wuppertal.mobi
X-WR-CALDESC:Veranstaltungen für so_ko_wpt • intervention und selbstbeherrschung
BEGIN:VEVENT
DTSTART;VALUE=DATE:20150604
DTEND;VALUE=DATE:20150605
DTSTAMP:20260423T223321
CREATED:20150518T190919Z
LAST-MODIFIED:20150518T191040Z
UID:8314-1433376000-1433462399@soli-komitee-wuppertal.mobi
SUMMARY:Stop G7 Elmau
DESCRIPTION:Alle Infos rund um die Proteste gegen den G7-Gipfel in Bayern : stop​-g7​-elmau​.info \n3.6./4.6. Alter­na­tiv­gipfel in München\n4.6. Großdemo in München\n4.6.-8.6. Camps und Aktionen vor Ort\n6.6. Großdemo Garmisch-Parten­kir­chen\n7.6. Stern­marsch nach Elmau\n7.6./8.6. G7-Gipfel auf Schloss Elmau \nAufruf zu Aktions­tagen rund um den G7-Gipfel in Elmau (Quelle) \nAm 7. und 8. Juni 2015 trifft sich die „Gruppe der Sieben“ (G7) auf Schloss Elmau in den bayeri­schen Alpen. Dort wollen die Staats- und Regierungschef*innen Deutsch­lands\, der USA\, Japans\, Großbri­tan­niens\, Frank­reichs\, Italiens und Kanadas über Außen- und Kriegs­po­litik\, Weltwirt­schaft\, Klima und „Entwick­lung“ berat­schlagen. Die Repräsentant*innen der reichsten und mächtigsten Staaten der Welt erheben den Anspruch\, über die Geschicke der gesamten Welt zu entscheiden\, ohne eine Legiti­ma­tion dafür zu haben. Die Politik der G7-Staaten bedeutet neoli­be­rale Wirtschafts­po­litik\, Krieg und Milita­ri­sie­rung\, Ausbeu­tung\, Armut und Hunger\, Umwelt­zer­stö­rung und Abschot­tung gegen­über Flüch­tenden. \nViele Einzel­per­sonen\, Organi­sa­tionen und Parteien unter­schied­lichster Spektren und politi­scher Anschau­ungen werden diesen Gipfel nicht ungestört lassen. \nWir werden uns mit vielfäl­tigen und kreativen\, offenen und entschlos­senen Aktionen\, mit Demons­tra­tionen\, Blockaden und Versamm­lungen direkt am Schloss sowie der Großde­mons­tra­tion in Garmisch-Parten­kir­chen und dem Gegen­gipfel in München der Politik der G7 in den Weg stellen. Betei­ligt euch\, kommt zahlreich\, macht mit ! \nBekämpft die Politik der G7 : \n\nWeg mit den Freihan­dels­ab­kommen TTIP\, TISA und CETA – die Welt ist keine Ware\nGegen Milita­ri­sie­rung und Krieg – Schluss mit den Kriegen der NATO-Staaten\nGrenzen auf für alle Menschen – Solida­rität mit den Migrant*innen und Flüch­tenden\nStoppt die Ausbeu­tung von Mensch und Natur – Entzieht die natür­li­chen Lebens­grund­lagen der Profit­wirt­schaft\nGegen den sozialen Kahlschlag – Die Konzerne sollen ihre Krise selbst bezahlen\nStop watching us – Gegen Überwa­chungs­staat und den Abbau demokra­ti­scher Rechte\n\nWir betrachten die Mobili­sie­rung gegen den G7-Gipfel als Teil vielfäl­tiger Protest­be­we­gungen für soziale Gerech­tig­keit\, für den Erhalt der natür­li­chen Lebens­grund­lagen\, für Frieden und für ungeteilte Menschen­rechte. Wir stellen uns damit auch an die Seite der Blockupy-Bewegung\, der Anti-Kriegs-Bewegung\, der antiras­sis­ti­schen Bewegung\, der Kämpfe für bessere Lebens- und Arbeits­be­din­gungen und der Proteste gegen Umwelt­zer­stö­rung. \nAktions­zeit­raum : 4. Juni bis 8. Juni 2015 mit Großde­mons­tra­tion\, Alter­na­tiv­gipfel und Aktionen vor Ort \nGeplant sind u. a.: \n\nGroßde­mons­tra­tion 6. Juni in Garmisch-Parten­kir­chen\nAlter­na­tiv­gipfel (Kongress) 4. Juni in München\nCamps und Aktionen vor Ort 4. bis 8. Juni 2015 nahe am Tagungsort Elmau mit Stern­marsch dorthin und Abschluss­kund­ge­bung in Garmisch-Parten­kir­chen\n\n\n							Drucken\nArtikel teilen
URL:https://soli-komitee-wuppertal.mobi/event/stop-g7-elmau/
CATEGORIES:Camp,Demo/Kundgebung
END:VEVENT
END:VCALENDAR