BEGIN:VCALENDAR
VERSION:2.0
PRODID:-//so_ko_wpt • intervention und selbstbeherrschung - ECPv4.6.14.1//NONSGML v1.0//EN
CALSCALE:GREGORIAN
METHOD:PUBLISH
X-WR-CALNAME:so_ko_wpt • intervention und selbstbeherrschung
X-ORIGINAL-URL:https://soli-komitee-wuppertal.mobi
X-WR-CALDESC:Veranstaltungen für so_ko_wpt • intervention und selbstbeherrschung
BEGIN:VEVENT
DTSTART;TZID=Europe/Amsterdam:20131112T173000
DTEND;TZID=Europe/Amsterdam:20131112T193000
DTSTAMP:20260420T081015
CREATED:20131108T170440Z
LAST-MODIFIED:20131108T170537Z
UID:3517-1384277400-1384284600@soli-komitee-wuppertal.mobi
SUMMARY:Flüchtlinge aus dem Nordkaukasus - Vortrag in D'dorf
DESCRIPTION:\n\n\n\nVor etwa einem Jahr stieg die Zahl der Asylsu­chenden aus der Russi­schen Födera­tion plötz­lich stark an\, ohne dass aus hiesiger Sicht beson­dere Ereig­nisse dafür eine Erklä­rung bieten. Ihre Zahl war in der ersten Hälfte dieses Jahres doppelt so hoch wie die der Flücht­linge aus Syrien. Die meisten von ihnen kommen aus dem Nordkau­kasus\, insbe­son­dere Tsche­tsche­nien. \n\n\n\n\nNach dem Ende des 2. Bürger­krieges in Tsche­tsche­nien gibt es kaum Nachrichten über die aktuelle Situa­tion im Nordkau­kasus. Der strah­lende Aufbau von Grosny\, der noch 2005 total in Ruinen liegenden Haupt­stadt Tsche­tsche­niens\, versperrt leicht den Blick auf das\, was hinter den glitzernden Fassaden geschieht. Nach brutalen Ermor­dungen von Menschen­recht­lern und der zuneh­menden Unter­drü­ckung kriti­scher Berichte und Meinungen ist es kaum noch möglich\, diffe­ren­zierte Infor­ma­tionen über das Alltags­leben in Tsche­tsche­nien zu erhalten. Und auch in den benach­barten Republiken und der Födera­tion passiert vieles\, das bei näherer Betrach­tung beunru­hi­gend ist. \n\n\n\n\nDer Vortrag von Svetlana Gannush­kina bietet eine Gelegen­heit\, aus erster Hand Infor­ma­tionen über die Lage der Menschen­rechte in der Russi­schen Födera­tion und die Gründe zu erfahren\, die Menschen bewegen\, ihre Heimat zu verlassen. \n\n\n\n\nSvetlana Gannush­kina\, Vorsit­zende des „Komitee Bürger­be­tei­li­gung” und des Programms „Migra­tion und Recht“ sowie Mitglied des „Menschen­rechts­zen­trums Memorial”\, engagiert sich seit über 20 Jahren für die Rechte von Flücht­lingen und Binnen­ver­trie­benen in der Russi­schen Födera­tion. In diesem Jahr erhält sie den schwe­di­schen Stieg-Larson-Preis „für ihre hartnä­ckige und mutige Arbeit beim Schutz der Menschen­rechte in Russland“. \nEine Veran­stal­tung des Psycho­so­zialen Zentrums für Flücht­linge\, Düssel­dorf \n\n\n\n\n\n							Drucken\nArtikel teilen
URL:https://soli-komitee-wuppertal.mobi/event/svetlana-gannushkina-flu%cc%88chtlinge-aus-dem-nordkaukasus-vortrag-in-ddorf/
LOCATION:Benrather Straße 7\, Düsseldorf
CATEGORIES:Veranstaltung/Vortrag
END:VEVENT
END:VCALENDAR