BEGIN:VCALENDAR
VERSION:2.0
PRODID:-//so_ko_wpt • intervention und selbstbeherrschung - ECPv4.6.14.1//NONSGML v1.0//EN
CALSCALE:GREGORIAN
METHOD:PUBLISH
X-WR-CALNAME:so_ko_wpt • intervention und selbstbeherrschung
X-ORIGINAL-URL:https://soli-komitee-wuppertal.mobi
X-WR-CALDESC:Veranstaltungen für so_ko_wpt • intervention und selbstbeherrschung
BEGIN:VEVENT
DTSTART;TZID=Europe/Amsterdam:20160430T200000
DTEND;TZID=Europe/Amsterdam:20160430T220000
DTSTAMP:20260423T130842
CREATED:20160412T173443Z
LAST-MODIFIED:20160412T173443Z
UID:10953-1462046400-1462053600@soli-komitee-wuppertal.mobi
SUMMARY:Theaterprojekt mit Refugees:Wupperspuren
DESCRIPTION:Im Juni 2015 wurde das Theaterprojekt „Wupperspuren“ mit Geflüchteten und Nicht-Geflüchteten ins Leben gerufen. Im Zentrum der Treffen und Proben steht die allen Beteiligten gemeinsame Erfahrung\, in Wuppertal anzukommen und Spuren zu hinterlassen. Im Austausch der individuellen Erfahrungen\, Geschichten und Erlebnisse der Schauspielerinnen und Schauspieler ist ein Theaterstück entstanden\, das bereits im Dezember 2015 aufgeführt wurde: Gezeigt wird eine Spurensuche verbunden mit Fragen nach Herkunft\, Identität und Zukunft\, begleitet von kurdischen Musikern.\n							Drucken \nArtikel teilen
URL:https://soli-komitee-wuppertal.mobi/event/theaterprojekt-mit-refugees-wupperspuren-2/
LOCATION:Hünefeldstraße 54a\, Wuppertal
CATEGORIES:Film/Theater
END:VEVENT
END:VCALENDAR