BEGIN:VCALENDAR
VERSION:2.0
PRODID:-//so_ko_wpt • intervention und selbstbeherrschung - ECPv4.6.14.1//NONSGML v1.0//EN
CALSCALE:GREGORIAN
METHOD:PUBLISH
X-WR-CALNAME:so_ko_wpt • intervention und selbstbeherrschung
X-ORIGINAL-URL:https://soli-komitee-wuppertal.mobi
X-WR-CALDESC:Veranstaltungen für so_ko_wpt • intervention und selbstbeherrschung
BEGIN:VEVENT
DTSTART;TZID=Europe/Amsterdam:20140606T200000
DTEND;TZID=Europe/Amsterdam:20140606T220000
DTSTAMP:20260419T135156
CREATED:20140515T125533Z
LAST-MODIFIED:20140515T125533Z
UID:4881-1402084800-1402092000@soli-komitee-wuppertal.mobi
SUMMARY:Treffen der Gruppekein mensch ist illegal
DESCRIPTION:Einmal im Monat trifft sich die Wuppertaler Gruppe von "kein mensch ist illegal"\, die seit Jahren versucht\, konkrete Solidarität für Geflüchtete aufzubauen und beispielsweise in ständigem Kontakt zum Brennpunkt Calais steht um für die dort Festsitzenden Hilfe zu organisieren.\n							Drucken \nArtikel teilen
URL:https://soli-komitee-wuppertal.mobi/event/treffen-der-gruppekein-mensch-ist-illegal/
CATEGORIES:Treffen/Tagung/Konferenz
END:VEVENT
END:VCALENDAR