BEGIN:VCALENDAR
VERSION:2.0
PRODID:-//so_ko_wpt • intervention und selbstbeherrschung - ECPv4.6.14.1//NONSGML v1.0//EN
CALSCALE:GREGORIAN
METHOD:PUBLISH
X-WR-CALNAME:so_ko_wpt • intervention und selbstbeherrschung
X-ORIGINAL-URL:https://soli-komitee-wuppertal.mobi
X-WR-CALDESC:Veranstaltungen für so_ko_wpt • intervention und selbstbeherrschung
BEGIN:VEVENT
DTSTART;TZID=Europe/Amsterdam:20140901T190000
DTEND;TZID=Europe/Amsterdam:20140901T220000
DTSTAMP:20260420T080805
CREATED:20140809T154357Z
LAST-MODIFIED:20140809T154357Z
UID:5641-1409598000-1409608800@soli-komitee-wuppertal.mobi
SUMMARY:Treffen der Karawane Wuppertal
DESCRIPTION:Jeden Montag findet ab 19 Uhr das offene Treffen der Wuppertaler Karawane-Gruppe statt. Die Karawane für die Rechte der Flüchtlinge und MigrantInnen ist eine Selbstorganisierung geflüchteter Menschen\, die konsequente Flüchtlingspolitik betreibt. Interessierte\, die die Arbeit der Karawane kennenlernen oder mit der Karawane in Dialog treten wollen\, sind herzlich eingeladen\, an den wöchentlichen Treffen teilzunehmen.\n							Drucken \nArtikel teilen
URL:https://soli-komitee-wuppertal.mobi/event/treffen-der-karawane-wuppertal-22/
CATEGORIES:Treffen/Tagung/Konferenz
END:VEVENT
END:VCALENDAR