BEGIN:VCALENDAR
VERSION:2.0
PRODID:-//so_ko_wpt • intervention und selbstbeherrschung - ECPv4.6.14.1//NONSGML v1.0//EN
CALSCALE:GREGORIAN
METHOD:PUBLISH
X-WR-CALNAME:so_ko_wpt • intervention und selbstbeherrschung
X-ORIGINAL-URL:https://soli-komitee-wuppertal.mobi
X-WR-CALDESC:Veranstaltungen für so_ko_wpt • intervention und selbstbeherrschung
BEGIN:VEVENT
DTSTART;TZID=Europe/Amsterdam:20150629T190000
DTEND;TZID=Europe/Amsterdam:20150629T220000
DTSTAMP:20260424T021301
CREATED:20150518T192359Z
LAST-MODIFIED:20150518T192359Z
UID:8339-1435604400-1435615200@soli-komitee-wuppertal.mobi
SUMMARY:Treffen der Karawane Wuppertal
DESCRIPTION:Jeden Montag findet ab 19 Uhr das offene Treffen der Wuppertaler Karawane-Gruppe statt. Die Karawane für die Rechte der Flüchtlinge und MigrantInnen ist eine Selbstorganisierung geflüchteter Menschen\, die konsequente Flüchtlingspolitik betreibt. Interessierte\, die die Arbeit der Karawane kennenlernen oder mit der Karawane in Dialog treten wollen\, sind jederzeit eingeladen\, an den wöchentlichen Treffen teilzunehmen.\n							Drucken \nArtikel teilen
URL:https://soli-komitee-wuppertal.mobi/event/treffen-der-karawane-wuppertal-64/
CATEGORIES:Treffen/Tagung/Konferenz
END:VEVENT
END:VCALENDAR