BEGIN:VCALENDAR
VERSION:2.0
PRODID:-//so_ko_wpt • intervention und selbstbeherrschung - ECPv4.6.14.1//NONSGML v1.0//EN
CALSCALE:GREGORIAN
METHOD:PUBLISH
X-WR-CALNAME:so_ko_wpt • intervention und selbstbeherrschung
X-ORIGINAL-URL:https://soli-komitee-wuppertal.mobi
X-WR-CALDESC:Veranstaltungen für so_ko_wpt • intervention und selbstbeherrschung
BEGIN:VEVENT
DTSTART;TZID=Europe/Amsterdam:20170210T190000
DTEND;TZID=Europe/Amsterdam:20170210T220000
DTSTAMP:20260425T124008
CREATED:20170224T130348Z
LAST-MODIFIED:20170224T130348Z
UID:12401-1486753200-1486764000@soli-komitee-wuppertal.mobi
SUMMARY:Treffen des so_ko_wpt
DESCRIPTION:Das monatliche Treffen des so_ko_wpt. \nAuf der Agenda im Februar:\nGeplante Aktivitäten zur Urteilsverkündung im Prozess gegen Latife\nLokale antifaschistische Vernetzung\nFortsetzung der Veranstaltungsreihe "Politik in der Rechtskurve"\n							Drucken \nArtikel teilen
URL:https://soli-komitee-wuppertal.mobi/event/treffen-des-so_ko_wpt/
CATEGORIES:Treffen/Tagung/Konferenz
END:VEVENT
END:VCALENDAR