BEGIN:VCALENDAR
VERSION:2.0
PRODID:-//so_ko_wpt • intervention und selbstbeherrschung - ECPv4.6.14.1//NONSGML v1.0//EN
CALSCALE:GREGORIAN
METHOD:PUBLISH
X-WR-CALNAME:so_ko_wpt • intervention und selbstbeherrschung
X-ORIGINAL-URL:https://soli-komitee-wuppertal.mobi
X-WR-CALDESC:Veranstaltungen für so_ko_wpt • intervention und selbstbeherrschung
BEGIN:VEVENT
DTSTART;TZID=Europe/Amsterdam:20150602T190000
DTEND;TZID=Europe/Amsterdam:20150602T210000
DTSTAMP:20260423T221856
CREATED:20150528T122417Z
LAST-MODIFIED:20150528T122417Z
UID:8451-1433271600-1433278800@soli-komitee-wuppertal.mobi
SUMMARY:Treffen des WuppertalerBündnisses gegen Nazis
DESCRIPTION:Treffen des "Wuppertaler Bündnisses gegen Nazis" in Vorbereitung der Demonstration am 13.6. in Wuppertal.\n							Drucken \nArtikel teilen
URL:https://soli-komitee-wuppertal.mobi/event/treffen-des-wuppertaler-bundnisses-gegen-nazis/
CATEGORIES:Treffen/Tagung/Konferenz
END:VEVENT
END:VCALENDAR